BEGIN:VCALENDAR
VERSION:2.0
PRODID:-//Royal Canadian Slovak Legion Branch #129 - ECPv5.15.0//NONSGML v1.0//EN
CALSCALE:GREGORIAN
METHOD:PUBLISH
X-WR-CALNAME:Royal Canadian Slovak Legion Branch #129
X-ORIGINAL-URL:https://slovaklegion.com
X-WR-CALDESC:Events for Royal Canadian Slovak Legion Branch #129
BEGIN:VTIMEZONE
TZID:UTC
BEGIN:STANDARD
TZOFFSETFROM:+0000
TZOFFSETTO:+0000
TZNAME:UTC
DTSTART:20180101T000000
END:STANDARD
END:VTIMEZONE
BEGIN:VEVENT
DTSTART;TZID=UTC:20181221T100000
DTEND;TZID=UTC:20181221T150000
DTSTAMP:20260424T215611
CREATED:20181001T015943Z
LAST-MODIFIED:20181114T203832Z
UID:12223-1545386400-1545404400@slovaklegion.com
SUMMARY:Christmas Order Pickup for Cabbage Rolls & Perogies Dec 21  10 to 3pm
DESCRIPTION:Christmas Cabbage Roll/Perogie Order pick up will be Friday December 21 from 10:00 a.m. to 3:00 p.m. Pick up at the Slovak Legion at 801 Atlantic Avenue…just over the Bridge .
URL:https://slovaklegion.com/event/thanksgiving-order-pickup-for-cabbage-rolls-perogies-oct-5-10-to-3pm/
LOCATION:The Slovak Legion\, 801 Atlantic Ave\, Thunder Bay\, Ontario\, P7C 2T3\, Canada
CATEGORIES:Public
END:VEVENT
END:VCALENDAR