BEGIN:VCALENDAR
VERSION:2.0
PRODID:-//Royal Canadian Slovak Legion Branch #129 - ECPv5.15.0//NONSGML v1.0//EN
CALSCALE:GREGORIAN
METHOD:PUBLISH
X-WR-CALNAME:Royal Canadian Slovak Legion Branch #129
X-ORIGINAL-URL:https://slovaklegion.com
X-WR-CALDESC:Events for Royal Canadian Slovak Legion Branch #129
BEGIN:VTIMEZONE
TZID:UTC
BEGIN:STANDARD
TZOFFSETFROM:+0000
TZOFFSETTO:+0000
TZNAME:UTC
DTSTART:20180101T000000
END:STANDARD
END:VTIMEZONE
BEGIN:VEVENT
DTSTART;TZID=UTC:20180419T190000
DTEND;TZID=UTC:20180419T210000
DTSTAMP:20260425T131242
CREATED:20180414T172129Z
LAST-MODIFIED:20180414T172714Z
UID:11739-1524164400-1524171600@slovaklegion.com
SUMMARY:Stu Rankin in our Bar April 19
DESCRIPTION:Branch 129 Slovak Legion – Music by Stu Rankin from 7:00 p.m. to 9:00 p.m. in our Bar.  No cover charge.  Restaurant specials.  Everyone welcome.  Ample free parking.
URL:https://slovaklegion.com/event/stu-rankin-in-our-bar-april-19/
LOCATION:The Slovak Legion\, 801 Atlantic Ave\, Thunder Bay\, Ontario\, P7C 2T3\, Canada
CATEGORIES:Public
END:VEVENT
END:VCALENDAR