BEGIN:VCALENDAR
VERSION:2.0
PRODID:-//Royal Canadian Slovak Legion Branch #129 - ECPv5.15.0//NONSGML v1.0//EN
CALSCALE:GREGORIAN
METHOD:PUBLISH
X-WR-CALNAME:Royal Canadian Slovak Legion Branch #129
X-ORIGINAL-URL:https://slovaklegion.com
X-WR-CALDESC:Events for Royal Canadian Slovak Legion Branch #129
BEGIN:VTIMEZONE
TZID:UTC
BEGIN:STANDARD
TZOFFSETFROM:+0000
TZOFFSETTO:+0000
TZNAME:UTC
DTSTART:20170101T000000
END:STANDARD
END:VTIMEZONE
BEGIN:VEVENT
DTSTART;TZID=UTC:20171022T120000
DTEND;TZID=UTC:20171022T170000
DTSTAMP:20260425T211818
CREATED:20171015T212103Z
LAST-MODIFIED:20171015T212103Z
UID:5355-1508673600-1508691600@slovaklegion.com
SUMMARY:Spaghetti Takeout at the Slovak Legion
DESCRIPTION:  \n  \n \nSpaghetti & 5 meatballs $11\nGluten free available for $13 per order…pre-order by calling 623-3354\nBring your own container or purchase one from us. \nThank you for supporting the Slovak Legion fundraising efforts.
URL:https://slovaklegion.com/event/spaghetti-takeout-at-the-slovak-legion/
LOCATION:The Slovak Legion\, 801 Atlantic Ave\, Thunder Bay\, Ontario\, P7C 2T3\, Canada
CATEGORIES:Public
END:VEVENT
END:VCALENDAR