BEGIN:VCALENDAR
VERSION:2.0
PRODID:-//Royal Canadian Slovak Legion Branch #129 - ECPv5.15.0//NONSGML v1.0//EN
CALSCALE:GREGORIAN
METHOD:PUBLISH
X-WR-CALNAME:Royal Canadian Slovak Legion Branch #129
X-ORIGINAL-URL:https://slovaklegion.com
X-WR-CALDESC:Events for Royal Canadian Slovak Legion Branch #129
BEGIN:VTIMEZONE
TZID:UTC
BEGIN:STANDARD
TZOFFSETFROM:+0000
TZOFFSETTO:+0000
TZNAME:UTC
DTSTART:20190101T000000
END:STANDARD
END:VTIMEZONE
BEGIN:VEVENT
DTSTART;TZID=UTC:20190310T080000
DTEND;TZID=UTC:20190310T113000
DTSTAMP:20260421T103130
CREATED:20190303T224151Z
LAST-MODIFIED:20190303T224151Z
UID:13518-1552204800-1552217400@slovaklegion.com
SUMMARY:Slovak Legion Weekend Special Breakfast Buffet Mar 10 8 to 11am
DESCRIPTION:WEEKEND SPECIAL \nBreakfast Buffet \nSunday March 10\, 2019 8am to 11 am \n$14.00 tax included \nBuffet Menu \nSausage\nBacon\nScrambled Eggs\nHome Fried Potatoes\nToast with Preserves\nCoffee & Tea\nChilled Apple and Orange Juice\nYogurt
URL:https://slovaklegion.com/event/slovak-legion-weekend-special-breakfast-buffet-mar-10-8-to-11am/
LOCATION:The Slovak Legion\, 801 Atlantic Ave\, Thunder Bay\, Ontario\, P7C 2T3\, Canada
CATEGORIES:Public
END:VEVENT
END:VCALENDAR