BEGIN:VCALENDAR
VERSION:2.0
PRODID:-//Royal Canadian Slovak Legion Branch #129 - ECPv5.15.0//NONSGML v1.0//EN
CALSCALE:GREGORIAN
METHOD:PUBLISH
X-WR-CALNAME:Royal Canadian Slovak Legion Branch #129
X-ORIGINAL-URL:https://slovaklegion.com
X-WR-CALDESC:Events for Royal Canadian Slovak Legion Branch #129
BEGIN:VTIMEZONE
TZID:UTC
BEGIN:STANDARD
TZOFFSETFROM:+0000
TZOFFSETTO:+0000
TZNAME:UTC
DTSTART:20190101T000000
END:STANDARD
END:VTIMEZONE
BEGIN:VEVENT
DTSTART;TZID=UTC:20190517T100000
DTEND;TZID=UTC:20190517T140000
DTSTAMP:20260420T052254
CREATED:20190510T192316Z
LAST-MODIFIED:20190529T163050Z
UID:14072-1558087200-1558101600@slovaklegion.com
SUMMARY:Slovak Legion Spaghetti Takeouts for months of May and June
DESCRIPTION:Slovak Legion – for the months of May and June\, we will have Spaghetti Take Outs on\nThursdays and Fridays from 10:00 a.m. to 2:00 p.m. each week.\nPre-orders only by calling 623-3354 Ext. 1 or 2. \nMenu Selection\nSpaghetti & 5 meatballs $11\nRavoli & 3 meatballs $12\n10 Meatballs $11\nLitre of Sauce $10\nGluten free available for $13 per order\n623-3354\nPlease bring your own container \nPre-orders are needed.\nThe Slovak Legion 801 Atlantic Avenue…Just over the bridge. \nThank you for your support.
URL:https://slovaklegion.com/event/slovak-legion-spaghetti-takeouts-for-month-of-may-2019-05-17/2019-05-17/
LOCATION:The Slovak Legion\, 801 Atlantic Ave\, Thunder Bay\, Ontario\, P7C 2T3\, Canada
CATEGORIES:Public
END:VEVENT
END:VCALENDAR