BEGIN:VCALENDAR
VERSION:2.0
PRODID:-//Royal Canadian Slovak Legion Branch #129 - ECPv5.15.0//NONSGML v1.0//EN
CALSCALE:GREGORIAN
METHOD:PUBLISH
X-WR-CALNAME:Royal Canadian Slovak Legion Branch #129
X-ORIGINAL-URL:https://slovaklegion.com
X-WR-CALDESC:Events for Royal Canadian Slovak Legion Branch #129
BEGIN:VTIMEZONE
TZID:UTC
BEGIN:STANDARD
TZOFFSETFROM:+0000
TZOFFSETTO:+0000
TZNAME:UTC
DTSTART:20180101T000000
END:STANDARD
END:VTIMEZONE
BEGIN:VEVENT
DTSTART;TZID=UTC:20180311T120000
DTEND;TZID=UTC:20180311T170000
DTSTAMP:20260425T145117
CREATED:20180307T141305Z
LAST-MODIFIED:20180307T141305Z
UID:11695-1520769600-1520787600@slovaklegion.com
SUMMARY:Slovak Legion Spaghetti Takeout
DESCRIPTION:Spaghetti Takeout at the Royal Canadian Slovak Legion Sunday March 11 12 to 5pm \nSpaghetti & 5 meatballs $11 \nRavoli & 3 meatballs $12 10 \nMeatballs $11 \nLitre of Sauce $10 \nGluten free available for $13 per order…pre-order by calling 623-3354 \nBring your own container or purchase one from us. \nThank you for supporting the Slovak Legion fundraising efforts. Just over the bridge…
URL:https://slovaklegion.com/event/slovak-legion-spaghetti-takeout/
LOCATION:The Slovak Legion\, 801 Atlantic Ave\, Thunder Bay\, Ontario\, P7C 2T3\, Canada
CATEGORIES:Public
END:VEVENT
END:VCALENDAR