BEGIN:VCALENDAR
VERSION:2.0
PRODID:-//Royal Canadian Slovak Legion Branch #129 - ECPv5.15.0//NONSGML v1.0//EN
CALSCALE:GREGORIAN
METHOD:PUBLISH
X-WR-CALNAME:Royal Canadian Slovak Legion Branch #129
X-ORIGINAL-URL:https://slovaklegion.com
X-WR-CALDESC:Events for Royal Canadian Slovak Legion Branch #129
BEGIN:VTIMEZONE
TZID:UTC
BEGIN:STANDARD
TZOFFSETFROM:+0000
TZOFFSETTO:+0000
TZNAME:UTC
DTSTART:20240101T000000
END:STANDARD
END:VTIMEZONE
BEGIN:VEVENT
DTSTART;TZID=UTC:20240303T120000
DTEND;TZID=UTC:20240303T170000
DTSTAMP:20260420T194017
CREATED:20240209T234312Z
LAST-MODIFIED:20240225T205345Z
UID:19623-1709467200-1709485200@slovaklegion.com
SUMMARY:Slovak Legion Spaghetti Takeout Menu with Lasagna pre-order addition March 3\, 2024
DESCRIPTION:You loved it so it’s back on the Menu! Chef Carmine’s Famous Lasagna is available again for Preorder by Friday March 1st for pick up on Sunday!\n  \n  \n\nSlovak Legion Spaghetti Takeout Fundraiser\nSunday Feb 18 12 to 5pm\nLet us cook for you!\nTakeout Menu\nSpaghetti & 5 meatballs $15\nRavioli & 3 meatballs $15\n10 Meatballs $15\nLitre of Spaghetti Sauce $14\nLitre of Bolognese Sauce $20\n\nPerogies by the Dozen $7\nWhile supplies last\nApple Pie $5\nSalads $6\n7″ Chicken Pot Pie $7\nPlease bring your own containers.\nTakeout: Please enter by Side (Bar) Door for this Takeout\, Cash\, Debit\, and Credit Card payment accepted. Thank you.\nTakeout Times run from 12 to 5pm\nThank you for supporting the Slovak Legion.\nSlovak Legion 623-3354 Ext 1 or 2\n801 Atlantic Avenue Thunder Bay P7C 2T3\nSlovak Legion just over the Pacific bridge to your left or use the Main Street Bridge.\n\nAlternative Directions to the Slovak Legion 801 Atlantic Avenue using Main Street Bridge\n1 Go to the corner of the Harbour Expressway and Fort William Road and proceed down Main Street over the Main Street Bridge.\n2 Go to the end and turn turn right onto 110th Ave/Island Dr.\n3 Watch for the Slovak Legion sign and turn. Your delicious Takeout is waiting for you.\n\n 
URL:https://slovaklegion.com/event/slovak-legion-spaghetti-takeout-menu-with-lasagna-pre-order-addition-march-3-2024/
LOCATION:The Slovak Legion\, 801 Atlantic Ave\, Thunder Bay\, Ontario\, P7C 2T3\, Canada
CATEGORIES:Public
END:VEVENT
END:VCALENDAR