BEGIN:VCALENDAR
VERSION:2.0
PRODID:-//Royal Canadian Slovak Legion Branch #129 - ECPv5.15.0//NONSGML v1.0//EN
CALSCALE:GREGORIAN
METHOD:PUBLISH
X-WR-CALNAME:Royal Canadian Slovak Legion Branch #129
X-ORIGINAL-URL:https://slovaklegion.com
X-WR-CALDESC:Events for Royal Canadian Slovak Legion Branch #129
BEGIN:VTIMEZONE
TZID:UTC
BEGIN:STANDARD
TZOFFSETFROM:+0000
TZOFFSETTO:+0000
TZNAME:UTC
DTSTART:20190101T000000
END:STANDARD
END:VTIMEZONE
BEGIN:VEVENT
DTSTART;TZID=UTC:20190414T120000
DTEND;TZID=UTC:20190414T170000
DTSTAMP:20260420T185312
CREATED:20190405T025722Z
LAST-MODIFIED:20190413T025646Z
UID:13636-1555243200-1555261200@slovaklegion.com
SUMMARY:Slovak Legion Spaghetti Takeout April 14 & The Navy League of Canada Lakehead Branch Spring Fling Market & Spaghetti Dinner
DESCRIPTION:Our next great Spaghetti Takeout is on April 14 from 12 to 5pm. Please use the Slovak Legion (Bar Entrance). \nCome on down to enjoy Carmine’s delicious meatballs. \nSunday April 14 12 to 5pm Menu \nSpaghetti & 5 meatballs $11\nRavoli & 3 meatballs $12\n10 Meatballs $11\nLitre of Sauce $10\nGluten free available for $13 per order…pre-order by calling 623-3354\nBring your own container or purchase one from us. \nThank you for supporting the Slovak Legion fundraising efforts. Just over the bridge. \n  \nWe are also supporting these wonderful young people and their Event at our hall on April 14: \nThe Navy League of Canada Lakehead Branch presents our 3rd Annual Spring Fling Market & Spaghetti Dinner on Sunday\, April 14\, 2019\, 12 noon to 5:00pm in support of the Fort William Sea Cadets. \nAdmission is Free! \nWe’re filling the main hall at the Slovak Legion with local vendors and artists showcasing their products. Come and enjoy a walk around our event\, browse the many vendor tables\, buy your 50/50 tickets for your chance to win up to $5000 cash at our upcoming draw in June. Afterwards enjoy a delicious Spaghetti Dinner from the Slovak Legion who will be offering take-out or a sit-down Spaghetti Dinner. \n(Vendor tables still available\, $25 each. Email 309fundraising@gmail.com if interested)
URL:https://slovaklegion.com/event/slovak-legion-spaghetti-takeout-april-14/
LOCATION:The Slovak Legion\, 801 Atlantic Ave\, Thunder Bay\, Ontario\, P7C 2T3\, Canada
CATEGORIES:Public
END:VEVENT
END:VCALENDAR