BEGIN:VCALENDAR
VERSION:2.0
PRODID:-//Royal Canadian Slovak Legion Branch #129 - ECPv5.15.0//NONSGML v1.0//EN
CALSCALE:GREGORIAN
METHOD:PUBLISH
X-WR-CALNAME:Royal Canadian Slovak Legion Branch #129
X-ORIGINAL-URL:https://slovaklegion.com
X-WR-CALDESC:Events for Royal Canadian Slovak Legion Branch #129
BEGIN:VTIMEZONE
TZID:UTC
BEGIN:STANDARD
TZOFFSETFROM:+0000
TZOFFSETTO:+0000
TZNAME:UTC
DTSTART:20210101T000000
END:STANDARD
END:VTIMEZONE
BEGIN:VEVENT
DTSTART;TZID=UTC:20210919T120000
DTEND;TZID=UTC:20210919T170000
DTSTAMP:20260422T171832
CREATED:20210626T191850Z
LAST-MODIFIED:20210904T200300Z
UID:17833-1632052800-1632070800@slovaklegion.com
SUMMARY:Slovak Legion Perogie & Spaghetti & Meatballs TAKEOUT September 19
DESCRIPTION:Slovak Legion Perogie & Spaghetti & Meatballs TAKEOUT \nSunday September 19\, 2021 12pm to 5pm \n \nWe will be following New Health Regulations. \nPerogies by the Dozen and/or Spaghetti & Meatballs Takeout OR *Curbside Pickup \nSunday September 19 from 12 to 5pm Menu\nPerogies by the Dozen $6\nSpaghetti & 5 meatballs $12\nRavioli & 3 meatballs $13\n10 Meatballs $12\nLitre of Sauce $11\nGluten free available for $14 per order…MUST pre-order by calling 623-3354 \nWhile supplies last\nHomemade Cheesecake or Apple Pie $4 \nWe must supply containers because of New Health Rules during these times and they will be free. You cannot bring your own pots following New Health Rules during these times. \nTakeout: Please enter by Bar Door\, Cash\, Debit\, and Credit Card payment accepted. Social Distancing enforced. Thank you. \nTakeout runs from 12 to 5pm\nThank you for supporting the Slovak Legion. \nSlovak Legion 623-3354 Ext 1 or 2\n801 Atlantic Avenue Thunder Bay P7C 2T3 \nSlovak Legion just over the Pacific bridge to your left or use the Main Street Bridge.\nAlternative Directions to the Slovak Legion 801 Atlantic Avenue using Main Street Bridge\n1 Go to the corner of the Harbour Expressway and Fort William Road and proceed down Main Street over the Main Street Bridge.\n2 Go to the end and turn turn right onto 110th Ave/Island Dr.\n3 Watch for the Slovak Legion sign and turn. Your delicious Curbside and Takeout are waiting for you.
URL:https://slovaklegion.com/event/slovak-legion-perogie-spaghetti-meatballs-takeout-or-curbside-pickup-july-25/
LOCATION:The Slovak Legion\, 801 Atlantic Ave\, Thunder Bay\, Ontario\, P7C 2T3\, Canada
CATEGORIES:Public
END:VEVENT
END:VCALENDAR