BEGIN:VCALENDAR
VERSION:2.0
PRODID:-//Royal Canadian Slovak Legion Branch #129 - ECPv5.15.0//NONSGML v1.0//EN
CALSCALE:GREGORIAN
METHOD:PUBLISH
X-WR-CALNAME:Royal Canadian Slovak Legion Branch #129
X-ORIGINAL-URL:https://slovaklegion.com
X-WR-CALDESC:Events for Royal Canadian Slovak Legion Branch #129
BEGIN:VTIMEZONE
TZID:UTC
BEGIN:STANDARD
TZOFFSETFROM:+0000
TZOFFSETTO:+0000
TZNAME:UTC
DTSTART:20210101T000000
END:STANDARD
END:VTIMEZONE
BEGIN:VEVENT
DTSTART;TZID=UTC:20210820T113000
DTEND;TZID=UTC:20210820T133000
DTSTAMP:20260422T200346
CREATED:20210805T211803Z
LAST-MODIFIED:20210805T211803Z
UID:17942-1629459000-1629466200@slovaklegion.com
SUMMARY:Slovak Legion Lunch Buffet Fridays 11:30am to 1:30pm with Bar
DESCRIPTION:On behalf of the Royal Canadian Slovak Legion Branch#129\, we are pleased to welcome our Patrons back for our famous Lunch Buffet Fridays from 11:30am to 1:30pm with Bar. The Bar also remains open for the rest of the day for socializing.  The Slovak Restaurant opens at 5pm on Friday. (following Ontario Stage 3 Guidelines). \n  \nWe will be ready to bring you the best of the Slovak!  Hope to see you out.
URL:https://slovaklegion.com/event/slovak-legion-lunch-buffet-fridays-1130am-to-130pm-with-bar/
LOCATION:The Slovak Legion\, 801 Atlantic Ave\, Thunder Bay\, Ontario\, P7C 2T3\, Canada
CATEGORIES:Public
END:VEVENT
END:VCALENDAR