BEGIN:VCALENDAR
VERSION:2.0
PRODID:-//Royal Canadian Slovak Legion Branch #129 - ECPv5.15.0//NONSGML v1.0//EN
CALSCALE:GREGORIAN
METHOD:PUBLISH
X-WR-CALNAME:Royal Canadian Slovak Legion Branch #129
X-ORIGINAL-URL:https://slovaklegion.com
X-WR-CALDESC:Events for Royal Canadian Slovak Legion Branch #129
BEGIN:VTIMEZONE
TZID:UTC
BEGIN:STANDARD
TZOFFSETFROM:+0000
TZOFFSETTO:+0000
TZNAME:UTC
DTSTART:20220101T000000
END:STANDARD
END:VTIMEZONE
BEGIN:VEVENT
DTSTART;TZID=UTC:20220204T113000
DTEND;TZID=UTC:20220204T133000
DTSTAMP:20260419T124147
CREATED:20220128T214138Z
LAST-MODIFIED:20220128T214138Z
UID:18366-1643974200-1643981400@slovaklegion.com
SUMMARY:Slovak Legion Lunch Buffet 11:30am to 1:30pm Friday Feb 4
DESCRIPTION:On behalf of the Royal Canadian Slovak Legion Branch#129\, we are pleased to welcome our Patrons back for our famous Lunch Buffet  Friday February 4  from 11:30am to 1:30pm with Bar. \nPlease bring proof of COVID Vaccinations.
URL:https://slovaklegion.com/event/slovak-legion-lunch-buffet-1130am-to-130pm-friday-feb-4/
LOCATION:The Slovak Legion\, 801 Atlantic Ave\, Thunder Bay\, Ontario\, P7C 2T3\, Canada
CATEGORIES:Public
END:VEVENT
END:VCALENDAR