BEGIN:VCALENDAR
VERSION:2.0
PRODID:-//Royal Canadian Slovak Legion Branch #129 - ECPv5.15.0//NONSGML v1.0//EN
CALSCALE:GREGORIAN
METHOD:PUBLISH
X-WR-CALNAME:Royal Canadian Slovak Legion Branch #129
X-ORIGINAL-URL:https://slovaklegion.com
X-WR-CALDESC:Events for Royal Canadian Slovak Legion Branch #129
BEGIN:VTIMEZONE
TZID:UTC
BEGIN:STANDARD
TZOFFSETFROM:+0000
TZOFFSETTO:+0000
TZNAME:UTC
DTSTART:20170101T000000
END:STANDARD
END:VTIMEZONE
BEGIN:VEVENT
DTSTART;TZID=UTC:20171115T181500
DTEND;TZID=UTC:20171115T223000
DTSTAMP:20260425T184328
CREATED:20171113T165033Z
LAST-MODIFIED:20171113T165033Z
UID:5377-1510769700-1510785000@slovaklegion.com
SUMMARY:Slovak Legion Fish Club Banquet
DESCRIPTION:Slovak Legion Branch 129 :  Fish Club Banquet. \nWednesday November 15.  Delicious meal\, great prizes and a lot of fun. \nDoors open at 6:15 p.m. and dinner at 7:00 p.m. \nTickets $35.00.
URL:https://slovaklegion.com/event/slovak-legion-fish-club-banquet/
LOCATION:The Slovak Legion\, 801 Atlantic Ave\, Thunder Bay\, Ontario\, P7C 2T3\, Canada
CATEGORIES:Public
END:VEVENT
END:VCALENDAR