BEGIN:VCALENDAR
VERSION:2.0
PRODID:-//Royal Canadian Slovak Legion Branch #129 - ECPv5.15.0//NONSGML v1.0//EN
CALSCALE:GREGORIAN
METHOD:PUBLISH
X-WR-CALNAME:Royal Canadian Slovak Legion Branch #129
X-ORIGINAL-URL:https://slovaklegion.com
X-WR-CALDESC:Events for Royal Canadian Slovak Legion Branch #129
BEGIN:VTIMEZONE
TZID:UTC
BEGIN:STANDARD
TZOFFSETFROM:+0000
TZOFFSETTO:+0000
TZNAME:UTC
DTSTART:20220101T000000
END:STANDARD
END:VTIMEZONE
BEGIN:VEVENT
DTSTART;TZID=UTC:20220216T190000
DTEND;TZID=UTC:20220216T210000
DTSTAMP:20260419T210018
CREATED:20211011T213249Z
LAST-MODIFIED:20220214T212156Z
UID:18116-1645038000-1645045200@slovaklegion.com
SUMMARY:Slovak Legion Executive Meeting Wednesday February 16 at 7pm
DESCRIPTION:There will be an Executive Meeting on Wednesday February 16th. at 7:00 p.m.  Please attend.
URL:https://slovaklegion.com/event/slovak-legion-executive-meeting-7pm/
LOCATION:The Slovak Legion\, 801 Atlantic Ave\, Thunder Bay\, Ontario\, P7C 2T3\, Canada
CATEGORIES:Public
END:VEVENT
END:VCALENDAR