BEGIN:VCALENDAR
VERSION:2.0
PRODID:-//Royal Canadian Slovak Legion Branch #129 - ECPv5.15.0//NONSGML v1.0//EN
CALSCALE:GREGORIAN
METHOD:PUBLISH
X-WR-CALNAME:Royal Canadian Slovak Legion Branch #129
X-ORIGINAL-URL:https://slovaklegion.com
X-WR-CALDESC:Events for Royal Canadian Slovak Legion Branch #129
BEGIN:VTIMEZONE
TZID:UTC
BEGIN:STANDARD
TZOFFSETFROM:+0000
TZOFFSETTO:+0000
TZNAME:UTC
DTSTART:20180101T000000
END:STANDARD
END:VTIMEZONE
BEGIN:VEVENT
DTSTART;TZID=UTC:20180131T190000
DTEND;TZID=UTC:20180131T210000
DTSTAMP:20260425T160221
CREATED:20180118T184957Z
LAST-MODIFIED:20180118T184957Z
UID:11541-1517425200-1517432400@slovaklegion.com
SUMMARY:Slovak Legion Crib Night
DESCRIPTION:Slovak Legion Crib Night.  7:00 p.m.  $5.00 per person.  Light lunch will be served.  Everyone Welcome.  Lots of free parking.
URL:https://slovaklegion.com/event/slovak-legion-crib-night/
LOCATION:The Slovak Legion\, 801 Atlantic Ave\, Thunder Bay\, Ontario\, P7C 2T3\, Canada
CATEGORIES:Public
END:VEVENT
END:VCALENDAR