BEGIN:VCALENDAR
VERSION:2.0
PRODID:-//Royal Canadian Slovak Legion Branch #129 - ECPv5.15.0//NONSGML v1.0//EN
CALSCALE:GREGORIAN
METHOD:PUBLISH
X-WR-CALNAME:Royal Canadian Slovak Legion Branch #129
X-ORIGINAL-URL:https://slovaklegion.com
X-WR-CALDESC:Events for Royal Canadian Slovak Legion Branch #129
BEGIN:VTIMEZONE
TZID:UTC
BEGIN:STANDARD
TZOFFSETFROM:+0000
TZOFFSETTO:+0000
TZNAME:UTC
DTSTART:20180101T000000
END:STANDARD
END:VTIMEZONE
BEGIN:VEVENT
DTSTART;TZID=UTC:20180425T190000
DTEND;TZID=UTC:20180425T210000
DTSTAMP:20260425T114855
CREATED:20180414T172611Z
LAST-MODIFIED:20180414T172611Z
UID:11744-1524682800-1524690000@slovaklegion.com
SUMMARY:Slovak Legion Crib Night Wed April 25
DESCRIPTION:Branch 129 Slovak Legion Crib Night.  Starts at 7:00 p.m.  $7.00 entry fee.  Prizes and sandwiches.  Everyone welcome.  Ample free parking.
URL:https://slovaklegion.com/event/slovak-legion-crib-night-wed-april-25/
LOCATION:The Slovak Legion\, 801 Atlantic Ave\, Thunder Bay\, Ontario\, P7C 2T3\, Canada
CATEGORIES:Public
END:VEVENT
END:VCALENDAR