BEGIN:VCALENDAR
VERSION:2.0
PRODID:-//Royal Canadian Slovak Legion Branch #129 - ECPv5.15.0//NONSGML v1.0//EN
CALSCALE:GREGORIAN
METHOD:PUBLISH
X-WR-CALNAME:Royal Canadian Slovak Legion Branch #129
X-ORIGINAL-URL:https://slovaklegion.com
X-WR-CALDESC:Events for Royal Canadian Slovak Legion Branch #129
BEGIN:VTIMEZONE
TZID:UTC
BEGIN:STANDARD
TZOFFSETFROM:+0000
TZOFFSETTO:+0000
TZNAME:UTC
DTSTART:20190101T000000
END:STANDARD
END:VTIMEZONE
BEGIN:VEVENT
DTSTART;TZID=UTC:20190130T190000
DTEND;TZID=UTC:20190130T210000
DTSTAMP:20260424T173029
CREATED:20190123T190903Z
LAST-MODIFIED:20190123T190903Z
UID:12860-1548874800-1548882000@slovaklegion.com
SUMMARY:Slovak Legion Crib Night Jan 30 open to all!
DESCRIPTION:Branch 129 Slovak Legion Crib Night Wednesday January 30.  Starts at 7:00 p.m.  $7.00 entry fee. \nPrizes and sandwiches. \nEveryone welcome. \nAmple free parking
URL:https://slovaklegion.com/event/slovak-legion-crib-night-jan-30-open-to-all/
LOCATION:The Slovak Legion\, 801 Atlantic Ave\, Thunder Bay\, Ontario\, P7C 2T3\, Canada
CATEGORIES:Public
END:VEVENT
END:VCALENDAR