BEGIN:VCALENDAR
VERSION:2.0
PRODID:-//Royal Canadian Slovak Legion Branch #129 - ECPv5.15.0//NONSGML v1.0//EN
CALSCALE:GREGORIAN
METHOD:PUBLISH
X-WR-CALNAME:Royal Canadian Slovak Legion Branch #129
X-ORIGINAL-URL:https://slovaklegion.com
X-WR-CALDESC:Events for Royal Canadian Slovak Legion Branch #129
BEGIN:VTIMEZONE
TZID:UTC
BEGIN:STANDARD
TZOFFSETFROM:+0000
TZOFFSETTO:+0000
TZNAME:UTC
DTSTART:20220101T000000
END:STANDARD
END:VTIMEZONE
BEGIN:VEVENT
DTSTART;TZID=UTC:20220223T190000
DTEND;TZID=UTC:20220223T210000
DTSTAMP:20260420T052254
CREATED:20190321T084257Z
LAST-MODIFIED:20220927T021234Z
UID:13549-1645642800-1645650000@slovaklegion.com
SUMMARY:Slovak Legion Crib Night Wednesday Feb 23 Open to All!
DESCRIPTION:Branch 129 Slovak Legion Crib Night Tuesday February 23\, 2022
URL:https://slovaklegion.com/event/slovak-legion-crib-night-february-23-open-to-all/
LOCATION:The Slovak Legion\, 801 Atlantic Ave\, Thunder Bay\, Ontario\, P7C 2T3\, Canada
CATEGORIES:Public
END:VEVENT
END:VCALENDAR