BEGIN:VCALENDAR
VERSION:2.0
PRODID:-//Royal Canadian Slovak Legion Branch #129 - ECPv5.15.0//NONSGML v1.0//EN
CALSCALE:GREGORIAN
METHOD:PUBLISH
X-WR-CALNAME:Royal Canadian Slovak Legion Branch #129
X-ORIGINAL-URL:https://slovaklegion.com
X-WR-CALDESC:Events for Royal Canadian Slovak Legion Branch #129
BEGIN:VTIMEZONE
TZID:UTC
BEGIN:STANDARD
TZOFFSETFROM:+0000
TZOFFSETTO:+0000
TZNAME:UTC
DTSTART:20220101T000000
END:STANDARD
END:VTIMEZONE
BEGIN:VEVENT
DTSTART;TZID=UTC:20220217T080000
DTEND;TZID=UTC:20220217T170000
DTSTAMP:20260419T225406
CREATED:20220208T202837Z
LAST-MODIFIED:20220212T214931Z
UID:18406-1645084800-1645117200@slovaklegion.com
SUMMARY:Slovak Legion Catch the Ace Lottery Thursdays
DESCRIPTION:With the new Ontario Stage 3 Covid Guidelines in place\, we are able to resume our “Catch the Ace” Draw. The Slovak Legion Catch The Ace Progressive Draw continues in the Bar with its Progressive Jackpot and continues every Thursday. Ticket sales from 6:00 p.m. to 8:00 p.m. and draw is at 8:30 p.m. Food will be available. Licence M835620. A 50/50 Draw will also be held every Thursday Licence Number M835598. Hope to see you out! \nEnjoy Supper at the Bar as well! \nYou must provide proof of full vaccination with QR code and valid I.D.\nenter.
URL:https://slovaklegion.com/event/slovak-legion-catch-the-ace-lottery-thursdays-6/
LOCATION:The Slovak Legion\, 801 Atlantic Ave\, Thunder Bay\, Ontario\, P7C 2T3\, Canada
CATEGORIES:Public
END:VEVENT
END:VCALENDAR