BEGIN:VCALENDAR
VERSION:2.0
PRODID:-//Royal Canadian Slovak Legion Branch #129 - ECPv5.15.0//NONSGML v1.0//EN
CALSCALE:GREGORIAN
METHOD:PUBLISH
X-WR-CALNAME:Royal Canadian Slovak Legion Branch #129
X-ORIGINAL-URL:https://slovaklegion.com
X-WR-CALDESC:Events for Royal Canadian Slovak Legion Branch #129
BEGIN:VTIMEZONE
TZID:UTC
BEGIN:STANDARD
TZOFFSETFROM:+0000
TZOFFSETTO:+0000
TZNAME:UTC
DTSTART:20220101T000000
END:STANDARD
END:VTIMEZONE
BEGIN:VEVENT
DTSTART;TZID=UTC:20221006T180000
DTEND;TZID=UTC:20221006T210000
DTSTAMP:20260421T215706
CREATED:20221006T175335Z
LAST-MODIFIED:20221006T175335Z
UID:18883-1665079200-1665090000@slovaklegion.com
SUMMARY:Slovak Legion "Catch the Ace Lottery" Thursday October 6
DESCRIPTION:The Slovak Legion Catch the Ace Draw returns on Thursday October 6 in our Bar & Slovak Legion East End Bar & Restaurant.\n\n\nTicket sales are from 6:00 p.m. to 8:00 p.m. and the draw is at 8:30 p.m. Licence M835717. A 50/50 Draw will also be held every Thursday Licence Number M835716.\n\n\nHope to see you out!\n\n\nEnjoy Supper at the Bar as well!\n\n\nWe could not continue this great fundraiser for our leaking roof without your support. Thank you very much.
URL:https://slovaklegion.com/event/slovak-legion-catch-the-ace-lottery-thursday-october-6/
LOCATION:The Slovak Legion\, 801 Atlantic Ave\, Thunder Bay\, Ontario\, P7C 2T3\, Canada
CATEGORIES:Public
END:VEVENT
END:VCALENDAR