BEGIN:VCALENDAR
VERSION:2.0
PRODID:-//Royal Canadian Slovak Legion Branch #129 - ECPv5.15.0//NONSGML v1.0//EN
CALSCALE:GREGORIAN
METHOD:PUBLISH
X-WR-CALNAME:Royal Canadian Slovak Legion Branch #129
X-ORIGINAL-URL:https://slovaklegion.com
X-WR-CALDESC:Events for Royal Canadian Slovak Legion Branch #129
BEGIN:VTIMEZONE
TZID:UTC
BEGIN:STANDARD
TZOFFSETFROM:+0000
TZOFFSETTO:+0000
TZNAME:UTC
DTSTART:20220101T000000
END:STANDARD
END:VTIMEZONE
BEGIN:VEVENT
DTSTART;TZID=UTC:20220714T180000
DTEND;TZID=UTC:20220714T210000
DTSTAMP:20260422T022046
CREATED:20220713T004200Z
LAST-MODIFIED:20220713T004200Z
UID:18735-1657821600-1657832400@slovaklegion.com
SUMMARY:Slovak Legion Catch the Ace Lottery Returns in September
DESCRIPTION:Over $3000 was won at the The Slovak Legion “Catch The Ace Progressive Draw” on Thursday June 9\, 2022 when our lucky Progressive winner chose the package with the ACE. \n\nWe will be back in September to continue the Slovak Legion “Catch the Ace Lottery” every Thursday until we have another lucky winner. This will allow our wonderful volunteers to have a summer break and we thank them and all of our “Catch the Ace” supporters. We could not continue this great fundraiser for our leaking roof without your support. Thank you very much.
URL:https://slovaklegion.com/event/slovak-legion-catch-the-ace-lottery-returns-in-september-2/
LOCATION:The Slovak Legion\, 801 Atlantic Ave\, Thunder Bay\, Ontario\, P7C 2T3\, Canada
CATEGORIES:Public
END:VEVENT
END:VCALENDAR