BEGIN:VCALENDAR
VERSION:2.0
PRODID:-//Royal Canadian Slovak Legion Branch #129 - ECPv5.15.0//NONSGML v1.0//EN
CALSCALE:GREGORIAN
METHOD:PUBLISH
X-WR-CALNAME:Royal Canadian Slovak Legion Branch #129
X-ORIGINAL-URL:https://slovaklegion.com
X-WR-CALDESC:Events for Royal Canadian Slovak Legion Branch #129
BEGIN:VTIMEZONE
TZID:UTC
BEGIN:STANDARD
TZOFFSETFROM:+0000
TZOFFSETTO:+0000
TZNAME:UTC
DTSTART:20190101T000000
END:STANDARD
END:VTIMEZONE
BEGIN:VEVENT
DTSTART;TZID=UTC:20190318T193000
DTEND;TZID=UTC:20190318T210000
DTSTAMP:20260421T052157
CREATED:20190310T231432Z
LAST-MODIFIED:20190310T231432Z
UID:13536-1552937400-1552942800@slovaklegion.com
SUMMARY:ROYAL CANADIAN SLOVAK LEGION GENERAL MEMBERSHIP MEETING
DESCRIPTION:Monday March 18\, 2018 Branch 129 Slovak Legion General Membership Meeting at 7:30 p.m. We look forward to seeing our members. \nPlease share the following with any family or friends who may be interested in joining as members as well.\n.\nCONSIDER JOINING THE ROYAL CANADIAN SLOVAK LEGION BRANCH#129: You are invited or invite others (if you are already a member) to consider joining the Royal Canadian Slovak Legion Branch#129. Applications are available at our Main Office 9am to 4pm Monday to Friday. We welcome new applicants. \nThe Slovak Legion is well known throughout the community for its charitable and service work and continues to be an integral member of the city of Thunder Bay. Why not encourage others to become involved. \nAny Canadian citizen or citizen of an Allied nation who is 18 years of age or older is welcome to become a member of the Legion. There are four main categories of membership: \nOrdinary membership\nIncludes still serving and retired military\, reservists\, RCMP\, police officers\, Canadian Coast Guard\, and others listed in the General By-Laws. \nAssociate membership\nIncludes parents\, spouses\, widows\, widowers\, children\, grandchildren\, siblings\, nieces as well as nephews of a person who is or was eligible for Ordinary membership. \nAffiliate voting membership\nIncludes Canadian citizens or Commonwealth subjects from an Allied nation who support The Royal Canadian Legion’s aims and objectives and are not eligible for ordinary or associate membership. \nAffiliate non-voting membership\nIncludes non-Canadian citizens or non-Commonwealth subjects from an Allied nation who support The Royal Canadian Legion’s aims and objectives. \nJoin us today!
URL:https://slovaklegion.com/event/royal-canadian-slovak-legion-general-membership-meeting-2/
LOCATION:The Slovak Legion\, 801 Atlantic Ave\, Thunder Bay\, Ontario\, P7C 2T3\, Canada
CATEGORIES:Public
END:VEVENT
END:VCALENDAR