BEGIN:VCALENDAR
VERSION:2.0
PRODID:-//Royal Canadian Slovak Legion Branch #129 - ECPv5.15.0//NONSGML v1.0//EN
CALSCALE:GREGORIAN
METHOD:PUBLISH
X-WR-CALNAME:Royal Canadian Slovak Legion Branch #129
X-ORIGINAL-URL:https://slovaklegion.com
X-WR-CALDESC:Events for Royal Canadian Slovak Legion Branch #129
BEGIN:VTIMEZONE
TZID:UTC
BEGIN:STANDARD
TZOFFSETFROM:+0000
TZOFFSETTO:+0000
TZNAME:UTC
DTSTART:20220101T000000
END:STANDARD
END:VTIMEZONE
BEGIN:VEVENT
DTSTART;TZID=UTC:20220625T133000
DTEND;TZID=UTC:20220625T153000
DTSTAMP:20260421T233750
CREATED:20220614T182411Z
LAST-MODIFIED:20220614T183240Z
UID:18690-1656163800-1656171000@slovaklegion.com
SUMMARY:R.C.L. Ladies Auxiliary Slovak Branch 129 “Open House for Membership Drive”
DESCRIPTION:R.C.L. Ladies Auxiliary Slovak Branch 129\n\n\n“Open House for Membership Drive”\nfor Ladies Auxiliary to Slovak Legion Branch #129\n\n\n\nSaturday June 25\, 2022\n1:30pm to 3:30pm\nin the Slovak Legion Solarium*\n\n\nLunch will be served\n&\nMuch more information on the work of the Auxiliary shared\n\n\nThe R.C.L. Slovak Ladies Auxiliary supports our Legion by hosting a variety of great activities run by our Ladies Auxiliary like Teas\, 2-Bit Auctions\, and get togethers\, and are involved with other Legion activities like Remembrance Day and so much more.\n\n\nWe have a lot of fun while we work together with our Legion and benefit our community through our charitable and service work.\n\n\nWhy not join us!\n\n\nHope to see you June 25th at the\nRoyal Canadian Legion Slovak Br#129\n801 Atlantic Avenue\nThunder Bay\, ON P7C 3E7\n623-3354 Ext 2\n\n\n*Please enter by Bar Door off Parking Lot
URL:https://slovaklegion.com/event/r-c-l-ladies-auxiliary-slovak-branch-129-open-house-for-membership-drive/
LOCATION:The Slovak Legion\, 801 Atlantic Ave\, Thunder Bay\, Ontario\, P7C 2T3\, Canada
CATEGORIES:Public
END:VEVENT
END:VCALENDAR