BEGIN:VCALENDAR
VERSION:2.0
PRODID:-//Royal Canadian Slovak Legion Branch #129 - ECPv5.15.0//NONSGML v1.0//EN
CALSCALE:GREGORIAN
METHOD:PUBLISH
X-WR-CALNAME:Royal Canadian Slovak Legion Branch #129
X-ORIGINAL-URL:https://slovaklegion.com
X-WR-CALDESC:Events for Royal Canadian Slovak Legion Branch #129
BEGIN:VTIMEZONE
TZID:UTC
BEGIN:STANDARD
TZOFFSETFROM:+0000
TZOFFSETTO:+0000
TZNAME:UTC
DTSTART:20210101T000000
END:STANDARD
END:VTIMEZONE
BEGIN:VEVENT
DTSTART;TZID=UTC:20210801T080000
DTEND;TZID=UTC:20210801T170000
DTSTAMP:20260422T184356
CREATED:20210728T193924Z
LAST-MODIFIED:20210728T193924Z
UID:17918-1627804800-1627837200@slovaklegion.com
SUMMARY:Our volunteers are taking a much-needed rest on the Civic Day Weekend.
DESCRIPTION:Our volunteers are taking a much-needed rest on the Civic Day Weekend. \nThank you to our volunteers and supporters.
URL:https://slovaklegion.com/event/our-volunteers-are-taking-a-much-needed-rest-on-the-civic-day-weekend/
LOCATION:The Slovak Legion\, 801 Atlantic Ave\, Thunder Bay\, Ontario\, P7C 2T3\, Canada
CATEGORIES:Public
END:VEVENT
END:VCALENDAR