BEGIN:VCALENDAR
VERSION:2.0
PRODID:-//Royal Canadian Slovak Legion Branch #129 - ECPv5.15.0//NONSGML v1.0//EN
CALSCALE:GREGORIAN
METHOD:PUBLISH
X-WR-CALNAME:Royal Canadian Slovak Legion Branch #129
X-ORIGINAL-URL:https://slovaklegion.com
X-WR-CALDESC:Events for Royal Canadian Slovak Legion Branch #129
BEGIN:VTIMEZONE
TZID:UTC
BEGIN:STANDARD
TZOFFSETFROM:+0000
TZOFFSETTO:+0000
TZNAME:UTC
DTSTART:20180101T000000
END:STANDARD
END:VTIMEZONE
BEGIN:VEVENT
DTSTART;TZID=UTC:20180330T113000
DTEND;TZID=UTC:20180330T130000
DTSTAMP:20260425T133442
CREATED:20180326T183504Z
LAST-MODIFIED:20180326T183859Z
UID:11711-1522409400-1522414800@slovaklegion.com
SUMMARY:No Lunch Buffet Friday\, March 30. Good Friday Fish Dinner in the Main Hall. Click here for details.
DESCRIPTION:Our Lunch Buffet will not run Friday\, March 30.Join us for our Good Friday Fish Dinner in the Main Hall.  See details below.  We thank you for your continued support.
URL:https://slovaklegion.com/event/our-lunch-buffet-will-not-run-friday-march-30-join-us-for-our-good-friday-fish-dinner-in-the-main-hall/
LOCATION:The Slovak Legion\, 801 Atlantic Ave\, Thunder Bay\, Ontario\, P7C 2T3\, Canada
CATEGORIES:Public
END:VEVENT
END:VCALENDAR