BEGIN:VCALENDAR
VERSION:2.0
PRODID:-//Royal Canadian Slovak Legion Branch #129 - ECPv5.15.0//NONSGML v1.0//EN
CALSCALE:GREGORIAN
METHOD:PUBLISH
X-WR-CALNAME:Royal Canadian Slovak Legion Branch #129
X-ORIGINAL-URL:https://slovaklegion.com
X-WR-CALDESC:Events for Royal Canadian Slovak Legion Branch #129
BEGIN:VTIMEZONE
TZID:UTC
BEGIN:STANDARD
TZOFFSETFROM:+0000
TZOFFSETTO:+0000
TZNAME:UTC
DTSTART:20210101T000000
END:STANDARD
END:VTIMEZONE
BEGIN:VEVENT
DTSTART;TZID=UTC:20211111T160000
DTEND;TZID=UTC:20211111T210000
DTSTAMP:20260422T142939
CREATED:20211108T174750Z
LAST-MODIFIED:20211108T174750Z
UID:18219-1636646400-1636664400@slovaklegion.com
SUMMARY:Our Bar is closed on Remembrance Day during its regular hours.
DESCRIPTION:Our Bar is closed on Remembrance Day\, Thursday November 11\, 2021 during its regular hours.
URL:https://slovaklegion.com/event/our-bar-is-closed-on-remembrance-day-during-its-regular-hours/
LOCATION:The Slovak Legion\, 801 Atlantic Ave\, Thunder Bay\, Ontario\, P7C 2T3\, Canada
CATEGORIES:Public
END:VEVENT
END:VCALENDAR