BEGIN:VCALENDAR
VERSION:2.0
PRODID:-//Royal Canadian Slovak Legion Branch #129 - ECPv5.15.0//NONSGML v1.0//EN
CALSCALE:GREGORIAN
METHOD:PUBLISH
X-WR-CALNAME:Royal Canadian Slovak Legion Branch #129
X-ORIGINAL-URL:https://slovaklegion.com
X-WR-CALDESC:Events for Royal Canadian Slovak Legion Branch #129
BEGIN:VTIMEZONE
TZID:UTC
BEGIN:STANDARD
TZOFFSETFROM:+0000
TZOFFSETTO:+0000
TZNAME:UTC
DTSTART:20180101T000000
END:STANDARD
END:VTIMEZONE
BEGIN:VEVENT
DTSTART;TZID=UTC:20181229T160000
DTEND;TZID=UTC:20181229T233000
DTSTAMP:20260424T202717
CREATED:20181227T192404Z
LAST-MODIFIED:20181227T193043Z
UID:12830-1546099200-1546126200@slovaklegion.com
SUMMARY:New Year's Eve Gala Tickets available at our Bar this weekend & Mon till noon.
DESCRIPTION:New Year’s Eve Gala at the Slovak Legion with our LIVE Band\, “21 Gun Fun”. Bring in the New Year with this HOT Band. \n$60 per person Call 623-3354 Ext 1 or 2 or stop by the Slovak Legion to get your tickets. Tickets also for sale at our Slovak Legion Bar this weekend. \nEnjoy a superb dinner\, party favours\, midnight snack and free taxi service within the city. Buffet includes Breaded Shrimp\, Carved Roast Beef\, Baked Chicken\, Pasta & Meatballs\, Hot Vegetable\, Baby Roasted Potatoes with Gravy\, Perogies\, Salads\, Relish Tray\, Dinner Rolls & Butter Assorted Baking\, Coffee & Tea and the Midnight Snack includes Cold Cuts\, breads. \n\n“21 Gun Fun” rocked last New Year’s Eve at the Slovak. It is time to get the Party started for 2019!
URL:https://slovaklegion.com/event/new-years-eve-gala-tickets-available-at-our-bar-this-weekend-mon-till-noon/
LOCATION:The Slovak Legion\, 801 Atlantic Ave\, Thunder Bay\, Ontario\, P7C 2T3\, Canada
CATEGORIES:Public
END:VEVENT
END:VCALENDAR