BEGIN:VCALENDAR
VERSION:2.0
PRODID:-//Royal Canadian Slovak Legion Branch #129 - ECPv5.15.0//NONSGML v1.0//EN
CALSCALE:GREGORIAN
METHOD:PUBLISH
X-WR-CALNAME:Royal Canadian Slovak Legion Branch #129
X-ORIGINAL-URL:https://slovaklegion.com
X-WR-CALDESC:Events for Royal Canadian Slovak Legion Branch #129
BEGIN:VTIMEZONE
TZID:UTC
BEGIN:STANDARD
TZOFFSETFROM:+0000
TZOFFSETTO:+0000
TZNAME:UTC
DTSTART:20180101T000000
END:STANDARD
END:VTIMEZONE
BEGIN:VEVENT
DTSTART;TZID=UTC:20180104T065400
DTEND;TZID=UTC:20180104T065400
DTSTAMP:20260425T161318
CREATED:20180104T064419Z
LAST-MODIFIED:20180917T190905Z
UID:10982-1515048840-1515048840@slovaklegion.com
SUMMARY:New Bar Hours
DESCRIPTION:New Bar Hour \nWednesday   4:00 pm – 11:00pm \nThursday 11:30 am – 11:00pm \nFriday 11:30 am- 1:00 am \nSaturday 4 pm– 1:00am
URL:https://slovaklegion.com/event/new-bar-hours/2018-01-04/
LOCATION:The Slovak Legion\, 801 Atlantic Ave\, Thunder Bay\, Ontario\, P7C 2T3\, Canada
CATEGORIES:Public
END:VEVENT
END:VCALENDAR