BEGIN:VCALENDAR
VERSION:2.0
PRODID:-//Royal Canadian Slovak Legion Branch #129 - ECPv5.15.0//NONSGML v1.0//EN
CALSCALE:GREGORIAN
METHOD:PUBLISH
X-WR-CALNAME:Royal Canadian Slovak Legion Branch #129
X-ORIGINAL-URL:https://slovaklegion.com
X-WR-CALDESC:Events for Royal Canadian Slovak Legion Branch #129
BEGIN:VTIMEZONE
TZID:UTC
BEGIN:STANDARD
TZOFFSETFROM:+0000
TZOFFSETTO:+0000
TZNAME:UTC
DTSTART:20240101T000000
END:STANDARD
END:VTIMEZONE
BEGIN:VEVENT
DTSTART;TZID=UTC:20240512T100000
DTEND;TZID=UTC:20240512T160000
DTSTAMP:20260420T003314
CREATED:20240409T171658Z
LAST-MODIFIED:20240510T194822Z
UID:19705-1715508000-1715529600@slovaklegion.com
SUMMARY:Mothers Day Brunch May 12 at the Slovak Legion SOLD OUT!  Thank you for your support!
DESCRIPTION:Join us on May 12th for our Mother’s Day Brunch   SOLD OUT! Thank you for the tremendous Support!\n 
URL:https://slovaklegion.com/event/mothers-day-brunch-may-12-at-the-slovak-legion/
LOCATION:The Slovak Legion\, 801 Atlantic Ave\, Thunder Bay\, Ontario\, P7C 2T3\, Canada
CATEGORIES:Public
END:VEVENT
END:VCALENDAR