BEGIN:VCALENDAR
VERSION:2.0
PRODID:-//Royal Canadian Slovak Legion Branch #129 - ECPv5.15.0//NONSGML v1.0//EN
CALSCALE:GREGORIAN
METHOD:PUBLISH
X-WR-CALNAME:Royal Canadian Slovak Legion Branch #129
X-ORIGINAL-URL:https://slovaklegion.com
X-WR-CALDESC:Events for Royal Canadian Slovak Legion Branch #129
BEGIN:VTIMEZONE
TZID:UTC
BEGIN:STANDARD
TZOFFSETFROM:+0000
TZOFFSETTO:+0000
TZNAME:UTC
DTSTART:20170101T000000
END:STANDARD
END:VTIMEZONE
BEGIN:VEVENT
DTSTART;TZID=UTC:20170414T113000
DTEND;TZID=UTC:20170414T133000
DTSTAMP:20260426T042041
CREATED:20161222T195645Z
LAST-MODIFIED:20170401T213053Z
UID:1848-1492169400-1492176600@slovaklegion.com
SUMMARY:Lunch Buffet
DESCRIPTION:
URL:https://slovaklegion.com/event/lunch-buffet-21-2017-04-14/
LOCATION:The Slovak Legion\, 801 Atlantic Ave\, Thunder Bay\, Ontario\, P7C 2T3\, Canada
END:VEVENT
END:VCALENDAR