BEGIN:VCALENDAR
VERSION:2.0
PRODID:-//Royal Canadian Slovak Legion Branch #129 - ECPv5.15.0//NONSGML v1.0//EN
CALSCALE:GREGORIAN
METHOD:PUBLISH
X-WR-CALNAME:Royal Canadian Slovak Legion Branch #129
X-ORIGINAL-URL:https://slovaklegion.com
X-WR-CALDESC:Events for Royal Canadian Slovak Legion Branch #129
BEGIN:VTIMEZONE
TZID:UTC
BEGIN:STANDARD
TZOFFSETFROM:+0000
TZOFFSETTO:+0000
TZNAME:UTC
DTSTART:20220101T000000
END:STANDARD
END:VTIMEZONE
BEGIN:VEVENT
DTSTART;TZID=UTC:20220424T120000
DTEND;TZID=UTC:20220424T180000
DTSTAMP:20260422T084217
CREATED:20220323T051837Z
LAST-MODIFIED:20220425T175238Z
UID:18501-1650801600-1650823200@slovaklegion.com
SUMMARY:LADIES AUXILIARY TWO-BIT AUCTION is a SELLOUT Thank you!
DESCRIPTION:Thanks to everyone for the wonderful support. The event sold out. Our Ladies Tea is coming up May 29 with tickets on sale starting today from the Office. Hope to see you out. \nThis was a SELLOUT! \n \nHope to see you there for a lot of fun and great prizes!
URL:https://slovaklegion.com/event/ladies-auxiliary-two-bit-auction-3/
LOCATION:The Slovak Legion\, 801 Atlantic Ave\, Thunder Bay\, Ontario\, P7C 2T3\, Canada
CATEGORIES:Public
END:VEVENT
END:VCALENDAR