BEGIN:VCALENDAR
VERSION:2.0
PRODID:-//Royal Canadian Slovak Legion Branch #129 - ECPv5.15.0//NONSGML v1.0//EN
CALSCALE:GREGORIAN
METHOD:PUBLISH
X-WR-CALNAME:Royal Canadian Slovak Legion Branch #129
X-ORIGINAL-URL:https://slovaklegion.com
X-WR-CALDESC:Events for Royal Canadian Slovak Legion Branch #129
BEGIN:VTIMEZONE
TZID:UTC
BEGIN:STANDARD
TZOFFSETFROM:+0000
TZOFFSETTO:+0000
TZNAME:UTC
DTSTART:20230101T000000
END:STANDARD
END:VTIMEZONE
BEGIN:VEVENT
DTSTART;TZID=UTC:20230515T193000
DTEND;TZID=UTC:20230515T210000
DTSTAMP:20260421T101428
CREATED:20221013T170439Z
LAST-MODIFIED:20230509T055213Z
UID:18899-1684179000-1684184400@slovaklegion.com
SUMMARY:Slovak Legion General Membership Meeting Monday May 15 7:30pm
DESCRIPTION:Monday May 15\, 2023 \nSlovak Legion General Membership Meeting at 7:30 p.m.  All members\nplease attend.
URL:https://slovaklegion.com/event/important-slovak-legion-general-membership-meeting-mar-20/
LOCATION:The Slovak Legion\, 801 Atlantic Ave\, Thunder Bay\, Ontario\, P7C 2T3\, Canada
CATEGORIES:Public
END:VEVENT
END:VCALENDAR