BEGIN:VCALENDAR
VERSION:2.0
PRODID:-//Royal Canadian Slovak Legion Branch #129 - ECPv5.15.0//NONSGML v1.0//EN
CALSCALE:GREGORIAN
METHOD:PUBLISH
X-WR-CALNAME:Royal Canadian Slovak Legion Branch #129
X-ORIGINAL-URL:https://slovaklegion.com
X-WR-CALDESC:Events for Royal Canadian Slovak Legion Branch #129
BEGIN:VTIMEZONE
TZID:UTC
BEGIN:STANDARD
TZOFFSETFROM:+0000
TZOFFSETTO:+0000
TZNAME:UTC
DTSTART:20180101T000000
END:STANDARD
END:VTIMEZONE
BEGIN:VEVENT
DTSTART;TZID=UTC:20180330T150000
DTEND;TZID=UTC:20180330T190000
DTSTAMP:20260425T144029
CREATED:20180302T192122Z
LAST-MODIFIED:20180308T181318Z
UID:11688-1522422000-1522436400@slovaklegion.com
SUMMARY:Good Friday Fish Dinner
DESCRIPTION:Slovak Legion Good Friday Fish Dinner from 3:00 p.m. to 7:00 p.m.  Eat in or Take out.  Call 623-3354 Ext. 1 or 2 to reserve for your table.
URL:https://slovaklegion.com/event/good-friday-fish-dinner/
LOCATION:The Slovak Legion\, 801 Atlantic Ave\, Thunder Bay\, Ontario\, P7C 2T3\, Canada
CATEGORIES:Public
END:VEVENT
END:VCALENDAR