BEGIN:VCALENDAR
VERSION:2.0
PRODID:-//Royal Canadian Slovak Legion Branch #129 - ECPv5.15.0//NONSGML v1.0//EN
CALSCALE:GREGORIAN
METHOD:PUBLISH
X-WR-CALNAME:Royal Canadian Slovak Legion Branch #129
X-ORIGINAL-URL:https://slovaklegion.com
X-WR-CALDESC:Events for Royal Canadian Slovak Legion Branch #129
BEGIN:VTIMEZONE
TZID:UTC
BEGIN:STANDARD
TZOFFSETFROM:+0000
TZOFFSETTO:+0000
TZNAME:UTC
DTSTART:20170101T000000
END:STANDARD
END:VTIMEZONE
BEGIN:VEVENT
DTSTART;TZID=UTC:20170418T120000
DTEND;TZID=UTC:20170418T170000
DTSTAMP:20260426T040949
CREATED:20170302T172111Z
LAST-MODIFIED:20170401T213327Z
UID:2024-1492516800-1492534800@slovaklegion.com
SUMMARY:General Meeting
DESCRIPTION:the General Meeting is held the 3rd Monday of the month except in July & August for all Branch 129 member at 7:30 pm in the main hall
URL:https://slovaklegion.com/event/general-meeting-9/
LOCATION:The Slovak Legion\, 801 Atlantic Ave\, Thunder Bay\, Ontario\, P7C 2T3\, Canada
CATEGORIES:Public
END:VEVENT
END:VCALENDAR