BEGIN:VCALENDAR
VERSION:2.0
PRODID:-//Royal Canadian Slovak Legion Branch #129 - ECPv5.15.0//NONSGML v1.0//EN
CALSCALE:GREGORIAN
METHOD:PUBLISH
X-WR-CALNAME:Royal Canadian Slovak Legion Branch #129
X-ORIGINAL-URL:https://slovaklegion.com
X-WR-CALDESC:Events for Royal Canadian Slovak Legion Branch #129
BEGIN:VTIMEZONE
TZID:UTC
BEGIN:STANDARD
TZOFFSETFROM:+0000
TZOFFSETTO:+0000
TZNAME:UTC
DTSTART:20150101T000000
END:STANDARD
END:VTIMEZONE
BEGIN:VEVENT
DTSTART;TZID=UTC:20151020T193000
DTEND;TZID=UTC:20151020T210000
DTSTAMP:20260426T021414
CREATED:20150916T191418Z
LAST-MODIFIED:20150922T155639Z
UID:1199-1445369400-1445374800@slovaklegion.com
SUMMARY:General Meeting
DESCRIPTION:General Meeting for Slovak Legion BRANCH MEMBERS ONLY \n7:30 pm \n3rd Monday of Each month from October til June \n  \nDUE TO THE FEDERAL ELECTIONS ON THE 19TH WE HAVE MOVED OUR MEETING TO THE TUESDAY NIGHT. \nIf a holiday falls on the Monday the meeting takes place the next day (Tuesday)
URL:https://slovaklegion.com/event/general-meeting-2/
LOCATION:The Slovak Legion\, 801 Atlantic Ave\, Thunder Bay\, Ontario\, P7C 2T3\, Canada
CATEGORIES:Public
END:VEVENT
END:VCALENDAR