BEGIN:VCALENDAR
VERSION:2.0
PRODID:-//Royal Canadian Slovak Legion Branch #129 - ECPv5.15.0//NONSGML v1.0//EN
CALSCALE:GREGORIAN
METHOD:PUBLISH
X-WR-CALNAME:Royal Canadian Slovak Legion Branch #129
X-ORIGINAL-URL:https://slovaklegion.com
X-WR-CALDESC:Events for Royal Canadian Slovak Legion Branch #129
BEGIN:VTIMEZONE
TZID:UTC
BEGIN:STANDARD
TZOFFSETFROM:+0000
TZOFFSETTO:+0000
TZNAME:UTC
DTSTART:20150101T000000
END:STANDARD
END:VTIMEZONE
BEGIN:VEVENT
DTSTART;TZID=UTC:20151116T193000
DTEND;TZID=UTC:20151116T210000
DTSTAMP:20260426T021451
CREATED:20150916T191418Z
LAST-MODIFIED:20151026T183604Z
UID:1200-1447702200-1447707600@slovaklegion.com
SUMMARY:General Meeting
DESCRIPTION:General Meeting for Slovak Legion BRANCH MEMBERS ONLY \n7:30 pm \n3rd Monday of Each month from October til June \nIf a holiday falls on the Monday the meeting takes place the next day (Tuesday)
URL:https://slovaklegion.com/event/general-meeting-2-2015-11-16/2015-11-16/
LOCATION:The Slovak Legion\, 801 Atlantic Ave\, Thunder Bay\, Ontario\, P7C 2T3\, Canada
CATEGORIES:Public
END:VEVENT
END:VCALENDAR