BEGIN:VCALENDAR
VERSION:2.0
PRODID:-//Royal Canadian Slovak Legion Branch #129 - ECPv5.15.0//NONSGML v1.0//EN
CALSCALE:GREGORIAN
METHOD:PUBLISH
X-WR-CALNAME:Royal Canadian Slovak Legion Branch #129
X-ORIGINAL-URL:https://slovaklegion.com
X-WR-CALDESC:Events for Royal Canadian Slovak Legion Branch #129
BEGIN:VTIMEZONE
TZID:UTC
BEGIN:STANDARD
TZOFFSETFROM:+0000
TZOFFSETTO:+0000
TZNAME:UTC
DTSTART:20240101T000000
END:STANDARD
END:VTIMEZONE
BEGIN:VEVENT
DTSTART;TZID=UTC:20240211T160000
DTEND;TZID=UTC:20240211T233000
DTSTAMP:20260420T211100
CREATED:20240117T190152Z
LAST-MODIFIED:20240202T014246Z
UID:19590-1707667200-1707694200@slovaklegion.com
SUMMARY:GAME ON--Superbowl Party at the Slovak February 11 4pm to Midnight
DESCRIPTION:SUPERBOWL PARTY at the Slovak Legion East End Bar & Restaurant\nSunday February 11 4pm to midnight\nLarge Screen TVS\, Great Food\, Fun & Prizes
URL:https://slovaklegion.com/event/game-on-superbowl-party-at-the-slovak-february-11-4pm-to-midnight/
LOCATION:The Slovak Legion\, 801 Atlantic Ave\, Thunder Bay\, Ontario\, P7C 2T3\, Canada
CATEGORIES:Public
END:VEVENT
END:VCALENDAR