BEGIN:VCALENDAR
VERSION:2.0
PRODID:-//Royal Canadian Slovak Legion Branch #129 - ECPv5.15.0//NONSGML v1.0//EN
CALSCALE:GREGORIAN
METHOD:PUBLISH
X-WR-CALNAME:Royal Canadian Slovak Legion Branch #129
X-ORIGINAL-URL:https://slovaklegion.com
X-WR-CALDESC:Events for Royal Canadian Slovak Legion Branch #129
BEGIN:VTIMEZONE
TZID:UTC
BEGIN:STANDARD
TZOFFSETFROM:+0000
TZOFFSETTO:+0000
TZNAME:UTC
DTSTART:20150101T000000
END:STANDARD
END:VTIMEZONE
BEGIN:VEVENT
DTSTART;TZID=UTC:20151118T181500
DTEND;TZID=UTC:20151118T220000
DTSTAMP:20260426T035247
CREATED:20150916T192554Z
LAST-MODIFIED:20151028T132446Z
UID:1261-1447870500-1447884000@slovaklegion.com
SUMMARY:Fish Club Banquet - Open to All
DESCRIPTION:FISH CLUB \nAnnual wind up  is Wednesday\, November 18th\, 2015. \nDoors open at 6:15 pm\, Dinner @ 7:00 pm. Contact Larry 626-2492 for more details. \n  \nYou don’t have to be a member to come
URL:https://slovaklegion.com/event/fish-club-banquet-members-only/
LOCATION:The Slovak Legion\, 801 Atlantic Ave\, Thunder Bay\, Ontario\, P7C 2T3\, Canada
CATEGORIES:Public
END:VEVENT
END:VCALENDAR