BEGIN:VCALENDAR
VERSION:2.0
PRODID:-//Royal Canadian Slovak Legion Branch #129 - ECPv5.15.0//NONSGML v1.0//EN
CALSCALE:GREGORIAN
METHOD:PUBLISH
X-WR-CALNAME:Royal Canadian Slovak Legion Branch #129
X-ORIGINAL-URL:https://slovaklegion.com
X-WR-CALDESC:Events for Royal Canadian Slovak Legion Branch #129
BEGIN:VTIMEZONE
TZID:UTC
BEGIN:STANDARD
TZOFFSETFROM:+0000
TZOFFSETTO:+0000
TZNAME:UTC
DTSTART:20170101T000000
END:STANDARD
END:VTIMEZONE
BEGIN:VEVENT
DTSTART;TZID=UTC:20171212T140000
DTEND;TZID=UTC:20171212T150000
DTSTAMP:20260425T172056
CREATED:20170726T212310Z
LAST-MODIFIED:20170923T012331Z
UID:2339-1513087200-1513090800@slovaklegion.com
SUMMARY:Falls Prevention Program
DESCRIPTION:Falls Prevention Program & Mild Exercise every Tuesday & Thursday at 2 pm (approx 30 mins) at the SLOVAK LEGION.  \nDesigned for Seniors but good for all ages.
URL:https://slovaklegion.com/event/falls-prevention-program-2-2017-12-12/2017-12-12/
LOCATION:The Slovak Legion\, 801 Atlantic Ave\, Thunder Bay\, Ontario\, P7C 2T3\, Canada
CATEGORIES:Public
END:VEVENT
END:VCALENDAR