BEGIN:VCALENDAR
VERSION:2.0
PRODID:-//Royal Canadian Slovak Legion Branch #129 - ECPv5.15.0//NONSGML v1.0//EN
CALSCALE:GREGORIAN
METHOD:PUBLISH
X-WR-CALNAME:Royal Canadian Slovak Legion Branch #129
X-ORIGINAL-URL:https://slovaklegion.com
X-WR-CALDESC:Events for Royal Canadian Slovak Legion Branch #129
BEGIN:VTIMEZONE
TZID:UTC
BEGIN:STANDARD
TZOFFSETFROM:+0000
TZOFFSETTO:+0000
TZNAME:UTC
DTSTART:20190101T000000
END:STANDARD
END:VTIMEZONE
BEGIN:VEVENT
DTSTART;TZID=UTC:20190418T100000
DTEND;TZID=UTC:20190418T150000
DTSTAMP:20260420T153318
CREATED:20190414T183648Z
LAST-MODIFIED:20190414T183648Z
UID:13652-1555581600-1555599600@slovaklegion.com
SUMMARY:Easter Cabbage Rool and Perogie Order Pickup  April 18 10am to 3pm
DESCRIPTION:Easter Cabbage Roll and Perogie Orders from The Slovak Legion Branch 129.  Perfect for Easter Celebrations or just great food to share. \nPhone 623-3354 Ext. 1 or 2 between 9:00 a.m. and 4:00 p.m to place orders until Friday April 12\, 2019 with PICKUP on Thursday April 18\, 2019 from 10am to 3pm.  Pick up at the Slovak Legion at 801 Atlantic Avenue…just over the Bridge .
URL:https://slovaklegion.com/event/easter-cabbage-rool-and-perogie-order-pickup-april-18-10am-to-3pm/
LOCATION:The Slovak Legion\, 801 Atlantic Ave\, Thunder Bay\, Ontario\, P7C 2T3\, Canada
CATEGORIES:Public
END:VEVENT
END:VCALENDAR