BEGIN:VCALENDAR
VERSION:2.0
PRODID:-//Royal Canadian Slovak Legion Branch #129 - ECPv5.15.0//NONSGML v1.0//EN
CALSCALE:GREGORIAN
METHOD:PUBLISH
X-WR-CALNAME:Royal Canadian Slovak Legion Branch #129
X-ORIGINAL-URL:https://slovaklegion.com
X-WR-CALDESC:Events for Royal Canadian Slovak Legion Branch #129
BEGIN:VTIMEZONE
TZID:UTC
BEGIN:STANDARD
TZOFFSETFROM:+0000
TZOFFSETTO:+0000
TZNAME:UTC
DTSTART:20170101T000000
END:STANDARD
END:VTIMEZONE
BEGIN:VEVENT
DTSTART;TZID=UTC:20170927T190000
DTEND;TZID=UTC:20170927T210000
DTSTAMP:20260425T211545
CREATED:20170922T231256Z
LAST-MODIFIED:20170922T231256Z
UID:2380-1506538800-1506546000@slovaklegion.com
SUMMARY:Crib Night
DESCRIPTION:Branch 129 Slovak Legion  Crib Night.  Everyone is welcome.  Crib starts at 7:00 p.m.  $5.00 entry fee.  Sandwiches and coffee afterwards.  See you there!
URL:https://slovaklegion.com/event/crib-night-17/
LOCATION:The Slovak Legion\, 801 Atlantic Ave\, Thunder Bay\, Ontario\, P7C 2T3\, Canada
CATEGORIES:Public
END:VEVENT
END:VCALENDAR