BEGIN:VCALENDAR
VERSION:2.0
PRODID:-//Royal Canadian Slovak Legion Branch #129 - ECPv5.15.0//NONSGML v1.0//EN
CALSCALE:GREGORIAN
METHOD:PUBLISH
X-WR-CALNAME:Royal Canadian Slovak Legion Branch #129
X-ORIGINAL-URL:https://slovaklegion.com
X-WR-CALDESC:Events for Royal Canadian Slovak Legion Branch #129
BEGIN:VTIMEZONE
TZID:UTC
BEGIN:STANDARD
TZOFFSETFROM:+0000
TZOFFSETTO:+0000
TZNAME:UTC
DTSTART:20180101T000000
END:STANDARD
END:VTIMEZONE
BEGIN:VEVENT
DTSTART;TZID=UTC:20181121T090000
DTEND;TZID=UTC:20181121T160000
DTSTAMP:20260424T215545
CREATED:20181121T005231Z
LAST-MODIFIED:20181121T005231Z
UID:12775-1542790800-1542816000@slovaklegion.com
SUMMARY:Christmas Cabbage Roll and Perogie Orders Being Taken
DESCRIPTION:Christmas Cabbage Roll and Perogie Orders are being taken by The Slovak Legion Branch 129. Perfect for your Holiday Celebrations or just great food to share. \nWe are now accepting orders for cabbage rolls and perogies for Christmas.  Orders will be taken from Wednesday November 21\, 2018 to Friday December 14\, 2018 with pickup on Friday December 21\, 2018. Please phone 623-3354 Ext. 1 or 2 to order. \nPick up Date is Friday December 21\, 2018 at the Slovak Legion at 801 Atlantic Avenue…just over the Bridge .
URL:https://slovaklegion.com/event/christmas-cabbage-roll-and-perogie-orders-being-taken/2018-11-21/
LOCATION:The Slovak Legion\, 801 Atlantic Ave\, Thunder Bay\, Ontario\, P7C 2T3\, Canada
CATEGORIES:Public
END:VEVENT
END:VCALENDAR