BEGIN:VCALENDAR
VERSION:2.0
PRODID:-//Royal Canadian Slovak Legion Branch #129 - ECPv5.15.0//NONSGML v1.0//EN
CALSCALE:GREGORIAN
METHOD:PUBLISH
X-WR-CALNAME:Royal Canadian Slovak Legion Branch #129
X-ORIGINAL-URL:https://slovaklegion.com
X-WR-CALDESC:Events for Royal Canadian Slovak Legion Branch #129
BEGIN:VTIMEZONE
TZID:UTC
BEGIN:STANDARD
TZOFFSETFROM:+0000
TZOFFSETTO:+0000
TZNAME:UTC
DTSTART:20210101T000000
END:STANDARD
END:VTIMEZONE
BEGIN:VEVENT
DTSTART;TZID=UTC:20210826T180000
DTEND;TZID=UTC:20210826T210000
DTSTAMP:20260422T184338
CREATED:20210817T170504Z
LAST-MODIFIED:20210823T184708Z
UID:18011-1630000800-1630011600@slovaklegion.com
SUMMARY:"Catch the Ace" at the Slovak Legion on Thursdays
DESCRIPTION:The upcoming Date and Progressive Jackpot will be updated following the last “Catch the Ace” Draw. \nWith the new Ontario Stage 3 Covid Guidelines in place\, we are able to resume our “Catch the Ace” Draw.  The Slovak Legion Catch The Ace Progressive Draw continues in the Bar with its Progressive Jackpot.  Ticket sales from 6:00 p.m. to 8:00 p.m. and draw is at 8:30 p.m.  Food will be available.  Licence M835456.  A 50/50 Draw will also be held every Thursday Licence Number M835598.  Hope to see you out! \nEnjoy Supper at the Bar as well! \n  \nThursday  \nProgressive Jackpot will be updated every week.
URL:https://slovaklegion.com/event/catch-the-ace-at-the-slovak-legion-on-thursdays/
LOCATION:The Slovak Legion\, 801 Atlantic Ave\, Thunder Bay\, Ontario\, P7C 2T3\, Canada
CATEGORIES:Public
END:VEVENT
END:VCALENDAR