BEGIN:VCALENDAR
VERSION:2.0
PRODID:-//Royal Canadian Slovak Legion Branch #129 - ECPv5.15.0//NONSGML v1.0//EN
CALSCALE:GREGORIAN
METHOD:PUBLISH
X-WR-CALNAME:Royal Canadian Slovak Legion Branch #129
X-ORIGINAL-URL:https://slovaklegion.com
X-WR-CALDESC:Events for Royal Canadian Slovak Legion Branch #129
BEGIN:VTIMEZONE
TZID:UTC
BEGIN:STANDARD
TZOFFSETFROM:+0000
TZOFFSETTO:+0000
TZNAME:UTC
DTSTART:20180101T000000
END:STANDARD
END:VTIMEZONE
BEGIN:VEVENT
DTSTART;TZID=UTC:20181208T180000
DTEND;TZID=UTC:20181208T233000
DTSTAMP:20260424T202451
CREATED:20181010T040843Z
LAST-MODIFIED:20181010T041702Z
UID:12246-1544292000-1544311800@slovaklegion.com
SUMMARY:2018 Christmas Dinner & Dance Parties with LIVE BAND December 8 ONLY!
DESCRIPTION:
URL:https://slovaklegion.com/event/2018-christmas-dinner-dance-parties-2/
LOCATION:The Slovak Legion\, 801 Atlantic Ave\, Thunder Bay\, Ontario\, P7C 2T3\, Canada
CATEGORIES:Public
END:VEVENT
END:VCALENDAR