BEGIN:VCALENDAR
VERSION:2.0
PRODID:-//Royal Canadian Slovak Legion Branch #129 - ECPv5.15.0//NONSGML v1.0//EN
CALSCALE:GREGORIAN
METHOD:PUBLISH
X-WR-CALNAME:Royal Canadian Slovak Legion Branch #129
X-ORIGINAL-URL:https://slovaklegion.com
X-WR-CALDESC:Events for Royal Canadian Slovak Legion Branch #129
BEGIN:VTIMEZONE
TZID:UTC
BEGIN:STANDARD
TZOFFSETFROM:+0000
TZOFFSETTO:+0000
TZNAME:UTC
DTSTART:20240101T000000
END:STANDARD
END:VTIMEZONE
BEGIN:VEVENT
DTSTART;TZID=UTC:20240812T100000
DTEND;TZID=UTC:20240830T150000
DTSTAMP:20260420T121139
CREATED:20240809T205825Z
LAST-MODIFIED:20240809T205825Z
UID:19816-1723456800-1725030000@slovaklegion.com
SUMMARY:Slovak Legion V.O.N.  FALLS PREVENTION PROGRAM SIGNUP
DESCRIPTION:V.O.N.  FALLS PREVENTION PROGRAM SIGNUP\n  \n  \nThe Slovak Legion in cooperation with the V.O.N. are planning to offer a Falls Prevention Program under VON instructors to be held beginning September Tuesday and Thursday at 2pm  if enough people sign up.\nSign up sheets are available for those wishing to take part in Falls Prevention Program under VON instructors to be held beginning September Tuesday and Thursday at 2pm with the actual start date to be advised after participant numbers are confirmed.\nSign up sheets are available in the Slovak Legion office from 10am to 3pm Monday through Friday and also in the bar/ restaurant Wednesday to Saturday from 4pm to closing.\nThis is offered Free of charge and is open to anybody in the community especially Seniors.\nPlease come in to sign up.  This has been a very popular program for a number of years\, but we need to have people signup to show there is interest in running it again.\n\nContact Maureen Rybar if you need further information.\n\nMaureen Rybar <mrybar@hotmail.com>\n 
URL:https://slovaklegion.com/event/slovak-legion-v-o-n-falls-prevention-program-signup/2024-08-12/
LOCATION:The Slovak Legion\, 801 Atlantic Ave\, Thunder Bay\, Ontario\, P7C 2T3\, Canada
CATEGORIES:Public
END:VEVENT
BEGIN:VEVENT
DTSTART;TZID=UTC:20240818T120000
DTEND;TZID=UTC:20240818T170000
DTSTAMP:20260420T121139
CREATED:20240130T130258Z
LAST-MODIFIED:20240809T202228Z
UID:19600-1723982400-1724000400@slovaklegion.com
SUMMARY:Slovak Legion Spaghetti Takeout Fundraiser Sunday August 18 12pm to 5pm
DESCRIPTION:SLOVAK LEGION SPAGHETTI TAKEOUT FUNDRAISER August 18 12pm t0 5pm\n\n\n\n\n\nLET US COOK FOR YOU!\n\n\n\n\n\n\n  \n  \nTAKEOUT MENU \nSPAGHETTI & 5 MEATBALLS $15\nRAVIOLI & 3 MEATBALLS $15\n10 MEATBALLS $15\nLITRE OF SPAGHETTI SAUCE $14\nLITRE OF BOLOGNESE SAUCE $20 \nPerogies by the Dozen $7 \nWhile supplies last \n7″ Chicken Pot Pie $7 \nApple Pie \, Cheese Cake\nSalads \nBuns \nPlease bring your own containers. \nTakeout: Please enter by Side (Bar) Door for this Takeout\, Cash\, Debit\, and Credit Card payment accepted. Thank you.\nTakeout Times run from 12 to 5pm\nThank you for supporting the Slovak Legion. \nSlovak Legion 623-3354 Ext 1 or 2\n801 Atlantic Avenue Thunder Bay P7C 2T3\nSlovak Legion just over the Pacific bridge to your left or use the Main Street Bridge. \nALTERNATIVE DIRECTIONS TO THE SLOVAK LEGION 801 ATLANTIC AVENUE USING MAIN STREET BRIDGE \n1 GO TO THE CORNER OF THE HARBOUR EXPRESSWAY AND FORT WILLIAM ROAD AND PROCEED DOWN MAIN STREET OVER THE MAIN STREET BRIDGE.\n2 GO TO THE END AND TURN TURN RIGHT ONTO 110TH AVE/ISLAND DR.\n3 WATCH FOR THE SLOVAK LEGION SIGN AND TURN. YOUR DELICIOUS TAKEOUT IS WAITING FOR YOU.
URL:https://slovaklegion.com/event/slovak-legion-spaghetti-takeout-sunday-aug-18-12-to-5pm/
LOCATION:The Slovak Legion\, 801 Atlantic Ave\, Thunder Bay\, Ontario\, P7C 2T3\, Canada
CATEGORIES:Public
END:VEVENT
END:VCALENDAR