BEGIN:VCALENDAR
VERSION:2.0
PRODID:-//Royal Canadian Slovak Legion Branch #129 - ECPv5.15.0//NONSGML v1.0//EN
CALSCALE:GREGORIAN
METHOD:PUBLISH
X-WR-CALNAME:Royal Canadian Slovak Legion Branch #129
X-ORIGINAL-URL:https://slovaklegion.com
X-WR-CALDESC:Events for Royal Canadian Slovak Legion Branch #129
BEGIN:VTIMEZONE
TZID:UTC
BEGIN:STANDARD
TZOFFSETFROM:+0000
TZOFFSETTO:+0000
TZNAME:UTC
DTSTART:20240101T000000
END:STANDARD
END:VTIMEZONE
BEGIN:VEVENT
DTSTART;TZID=UTC:20240812T100000
DTEND;TZID=UTC:20240830T150000
DTSTAMP:20260420T105041
CREATED:20240809T205825Z
LAST-MODIFIED:20240809T205825Z
UID:19816-1723456800-1725030000@slovaklegion.com
SUMMARY:Slovak Legion V.O.N.  FALLS PREVENTION PROGRAM SIGNUP
DESCRIPTION:V.O.N.  FALLS PREVENTION PROGRAM SIGNUP\n  \n  \nThe Slovak Legion in cooperation with the V.O.N. are planning to offer a Falls Prevention Program under VON instructors to be held beginning September Tuesday and Thursday at 2pm  if enough people sign up.\nSign up sheets are available for those wishing to take part in Falls Prevention Program under VON instructors to be held beginning September Tuesday and Thursday at 2pm with the actual start date to be advised after participant numbers are confirmed.\nSign up sheets are available in the Slovak Legion office from 10am to 3pm Monday through Friday and also in the bar/ restaurant Wednesday to Saturday from 4pm to closing.\nThis is offered Free of charge and is open to anybody in the community especially Seniors.\nPlease come in to sign up.  This has been a very popular program for a number of years\, but we need to have people signup to show there is interest in running it again.\n\nContact Maureen Rybar if you need further information.\n\nMaureen Rybar <mrybar@hotmail.com>\n 
URL:https://slovaklegion.com/event/slovak-legion-v-o-n-falls-prevention-program-signup/2024-08-12/
LOCATION:The Slovak Legion\, 801 Atlantic Ave\, Thunder Bay\, Ontario\, P7C 2T3\, Canada
CATEGORIES:Public
END:VEVENT
BEGIN:VEVENT
DTSTART;TZID=UTC:20240815T080000
DTEND;TZID=UTC:20240815T233000
DTSTAMP:20260420T105041
CREATED:20240805T181325Z
LAST-MODIFIED:20240805T181426Z
UID:19808-1723708800-1723764600@slovaklegion.com
SUMMARY:Thanks to Everyone for supporting Catch the Ace. The Ace has been found!! We will be back in September with a New Start and Your NEW chance to WIN!
DESCRIPTION:We would like to Thank Everyone for their continuous support for our Catch the Ace Lottery! Now that the ACE has been found we will resume in September with a NEW START & Your NEW chance to WIN!Hope to see you all there 
URL:https://slovaklegion.com/event/thanks-to-everyone-for-supporting-catch-the-ace-the-ace-has-been-found-we-will-be-back-in-september-with-a-new-start-and-your-new-chance-to-win/
LOCATION:The Slovak Legion\, 801 Atlantic Ave\, Thunder Bay\, Ontario\, P7C 2T3\, Canada
CATEGORIES:Public
END:VEVENT
BEGIN:VEVENT
DTSTART;TZID=UTC:20240815T113000
DTEND;TZID=UTC:20240816T133000
DTSTAMP:20260420T105041
CREATED:20240730T230516Z
LAST-MODIFIED:20250113T215747Z
UID:19798-1723721400-1723815000@slovaklegion.com
SUMMARY:Slovak Legion Lunch Buffets Thursdays and Fridays 11:30am to 1:30pm
DESCRIPTION:Enjoy a great Lunch Buffet at the Slovak Legion!\n 
URL:https://slovaklegion.com/event/slovak-legion-lunch-buffets-thursdays-and-fridays-1130am-to-130pm-1/
LOCATION:The Slovak Legion\, 801 Atlantic Ave\, Thunder Bay\, Ontario\, P7C 2T3\, Canada
CATEGORIES:Public
END:VEVENT
END:VCALENDAR