BEGIN:VCALENDAR
VERSION:2.0
PRODID:-//Royal Canadian Slovak Legion Branch #129 - ECPv5.15.0//NONSGML v1.0//EN
CALSCALE:GREGORIAN
METHOD:PUBLISH
X-WR-CALNAME:Royal Canadian Slovak Legion Branch #129
X-ORIGINAL-URL:https://slovaklegion.com
X-WR-CALDESC:Events for Royal Canadian Slovak Legion Branch #129
BEGIN:VTIMEZONE
TZID:UTC
BEGIN:STANDARD
TZOFFSETFROM:+0000
TZOFFSETTO:+0000
TZNAME:UTC
DTSTART:20240101T000000
END:STANDARD
END:VTIMEZONE
BEGIN:VEVENT
DTSTART;TZID=UTC:20240222T113000
DTEND;TZID=UTC:20240223T113000
DTSTAMP:20260420T193427
CREATED:20240216T235404Z
LAST-MODIFIED:20240217T000026Z
UID:19626-1708601400-1708687800@slovaklegion.com
SUMMARY:Slovak Legion Lunch Buffets Thursdays and Fridays 11:30am to 1:30pm
DESCRIPTION:Includes dessert and coffee/tea/pop.  Our bar will open at 11:30 a.m. and our restaurant will open at 5:00 p.m.
URL:https://slovaklegion.com/event/slovak-legion-lunch-buffets-thursdays-and-fridays-1130am-to-130pm-22-2/
LOCATION:The Slovak Legion\, 801 Atlantic Ave\, Thunder Bay\, Ontario\, P7C 2T3\, Canada
CATEGORIES:Public
END:VEVENT
BEGIN:VEVENT
DTSTART;TZID=UTC:20240222T180000
DTEND;TZID=UTC:20240222T210000
DTSTAMP:20260420T193427
CREATED:20240216T235718Z
LAST-MODIFIED:20240216T235915Z
UID:19628-1708624800-1708635600@slovaklegion.com
SUMMARY:Slovak Legion Catch The Ace progressive draw with a minimum “Guaranteed” payout of $1\,000.00 if the you “Catch the Ace” every Thursday. Lottery Licence M#861383. Ticket sales from 6:00 p.m. to 8:00 p.m. with the draw at 8:30 p.m.
DESCRIPTION:Slovak Legion Catch The Ace progressive draw with a minimum “Guaranteed” payout of $1\,000.00 if the you “Catch the Ace” every Thursday. Lottery Licence M#861383. Ticket sales from 6:00 p.m. to 8:00 p.m. with the draw at 8:30 p.m.\nWe will also have a 50/50 draw at that time. Licence M#861931 Ticket sales from 6pm to 8:30pm with the Draw at 8:30pm.\nWhy not come out and enjoy supper in our Bar while trying to CATCH THE ACE!  A Fun Night Out!
URL:https://slovaklegion.com/event/slovak-legion-catch-the-ace-progressive-draw-with-a-minimum-guaranteed-payout-of-1000-00-if-the-you-catch-the-ace-every-thursday-lottery-licence-m861383-ticket-22/
LOCATION:The Slovak Legion\, 801 Atlantic Ave\, Thunder Bay\, Ontario\, P7C 2T3\, Canada
CATEGORIES:Public
END:VEVENT
END:VCALENDAR