BEGIN:VCALENDAR
VERSION:2.0
PRODID:-//Royal Canadian Slovak Legion Branch #129 - ECPv5.15.0//NONSGML v1.0//EN
CALSCALE:GREGORIAN
METHOD:PUBLISH
X-WR-CALNAME:Royal Canadian Slovak Legion Branch #129
X-ORIGINAL-URL:https://slovaklegion.com
X-WR-CALDESC:Events for Royal Canadian Slovak Legion Branch #129
BEGIN:VTIMEZONE
TZID:UTC
BEGIN:STANDARD
TZOFFSETFROM:+0000
TZOFFSETTO:+0000
TZNAME:UTC
DTSTART:20230101T000000
END:STANDARD
END:VTIMEZONE
BEGIN:VEVENT
DTSTART;TZID=UTC:20230921T113000
DTEND;TZID=UTC:20230922T133000
DTSTAMP:20260421T032441
CREATED:20230919T171427Z
LAST-MODIFIED:20230919T171427Z
UID:19392-1695295800-1695389400@slovaklegion.com
SUMMARY:Slovak Legion Lunch Buffets Thursdays and Fridays 11:30am to 1:30pm
DESCRIPTION:LOOKING FOR A HOT\, DELICIOUS & READY TO GO LUNCH?? JOIN US EVERY THURSDAY & FRIDAY AT THE SLOVAK LEGION FOR OUR LUNCH BUFFET.
URL:https://slovaklegion.com/event/slovak-legion-lunch-buffets-thursdays-and-fridays-1130am-to-130pm-13/
LOCATION:The Slovak Legion\, 801 Atlantic Ave\, Thunder Bay\, Ontario\, P7C 2T3\, Canada
CATEGORIES:Public
END:VEVENT
BEGIN:VEVENT
DTSTART;TZID=UTC:20230922T200000
DTEND;TZID=UTC:20230922T230000
DTSTAMP:20260421T032441
CREATED:20230121T042700Z
LAST-MODIFIED:20230915T023038Z
UID:19088-1695412800-1695423600@slovaklegion.com
SUMMARY:Music by Danny Johnson Fri September 22 8pm to 11pm in the Slovak Legion Bar No admission charge.
DESCRIPTION:COME JOIN US\nFriday September 22\, 2023\nSlovak Legion Bar- Music by Danny Johnson from 8:00 p.m. to 11:00 p.m.\nMUSIC\nFOOD & DRINKS\nNo admission charge.\nEveryone welcome.\n \nDANNY JOHNSON\n“THE AMAZING ONE MAN BAND”\nDanny Johnson multi-talented vocalist / multi-instrumentalist.  He is a well-respected singer/songwriter who has performed at venues and festivals around the world and has opened for and toured with many acclaimed acts\, including Bob Dylan\, The Tragically Hip\, Colin James\, David Wilcox\, Fred Eaglesmith\, George Jones\, Valdy and Johnny Cash. If you enjoy Elton\, Springsteen\, Lennon\, Morrison\, Mellencamp\, you will enjoy a night with Danny Johnson.
URL:https://slovaklegion.com/event/music-by-danny-johnson-fri-jan-27-7pm-to-10pm-in-the-slovak-legion-bar/
LOCATION:The Slovak Legion\, 801 Atlantic Ave\, Thunder Bay\, Ontario\, P7C 2T3\, Canada
CATEGORIES:Public
END:VEVENT
END:VCALENDAR