BEGIN:VCALENDAR
VERSION:2.0
PRODID:-//Royal Canadian Slovak Legion Branch #129 - ECPv5.15.0//NONSGML v1.0//EN
CALSCALE:GREGORIAN
METHOD:PUBLISH
X-WR-CALNAME:Royal Canadian Slovak Legion Branch #129
X-ORIGINAL-URL:https://slovaklegion.com
X-WR-CALDESC:Events for Royal Canadian Slovak Legion Branch #129
BEGIN:VTIMEZONE
TZID:UTC
BEGIN:STANDARD
TZOFFSETFROM:+0000
TZOFFSETTO:+0000
TZNAME:UTC
DTSTART:20230101T000000
END:STANDARD
END:VTIMEZONE
BEGIN:VEVENT
DTSTART;TZID=UTC:20230907T113000
DTEND;TZID=UTC:20230908T133000
DTSTAMP:20260421T032513
CREATED:20230906T045923Z
LAST-MODIFIED:20230906T045923Z
UID:19380-1694086200-1694179800@slovaklegion.com
SUMMARY:Slovak Legion Lunch Buffets Thursdays and Fridays 11:30am to 1:30pm
DESCRIPTION:LOOKING FOR A HOT\, DELICIOUS & READY TO GO LUNCH?? JOIN US EVERY THURSDAY & FRIDAY AT THE SLOVAK LEGION FOR OUR LUNCH BUFFET.
URL:https://slovaklegion.com/event/slovak-legion-lunch-buffets-thursdays-and-fridays-1130am-to-130pm-12/
LOCATION:The Slovak Legion\, 801 Atlantic Ave\, Thunder Bay\, Ontario\, P7C 2T3\, Canada
CATEGORIES:Public
END:VEVENT
BEGIN:VEVENT
DTSTART;TZID=UTC:20230907T180000
DTEND;TZID=UTC:20230907T210000
DTSTAMP:20260421T032513
CREATED:20230906T050135Z
LAST-MODIFIED:20230906T050135Z
UID:19382-1694109600-1694120400@slovaklegion.com
SUMMARY:Slovak Legion Catch The Ace progressive draw with a minimum “Guaranteed” payout of $1\,000.00 if the you “Catch the Ace” every Thursday.
DESCRIPTION:Slovak Legion Catch The Ace progressive draw with a minimum “Guaranteed” payout of $1\,000.00 if the you “Catch the Ace” every Thursday.\nTicket sales from 6:00 p.m. to 8:00 p.m. with the draw at 8:30 p.m. Licence M861313. We will also have a 50/50 draw at that time. Licence M861361.\nWhy not come out and enjoy supper in our Bar while trying to CATCH THE ACE!  A Fun Night Out!
URL:https://slovaklegion.com/event/slovak-legion-catch-the-ace-progressive-draw-with-a-minimum-guaranteed-payout-of-1000-00-if-the-you-catch-the-ace-every-thursday-11/
LOCATION:The Slovak Legion\, 801 Atlantic Ave\, Thunder Bay\, Ontario\, P7C 2T3\, Canada
CATEGORIES:Public
END:VEVENT
END:VCALENDAR