BEGIN:VCALENDAR
VERSION:2.0
PRODID:-//Royal Canadian Slovak Legion Branch #129 - ECPv5.15.0//NONSGML v1.0//EN
CALSCALE:GREGORIAN
METHOD:PUBLISH
X-WR-CALNAME:Royal Canadian Slovak Legion Branch #129
X-ORIGINAL-URL:https://slovaklegion.com
X-WR-CALDESC:Events for Royal Canadian Slovak Legion Branch #129
BEGIN:VTIMEZONE
TZID:UTC
BEGIN:STANDARD
TZOFFSETFROM:+0000
TZOFFSETTO:+0000
TZNAME:UTC
DTSTART:20230101T000000
END:STANDARD
END:VTIMEZONE
BEGIN:VEVENT
DTSTART;TZID=UTC:20230720T113000
DTEND;TZID=UTC:20230721T133000
DTSTAMP:20260421T063745
CREATED:20230710T184008Z
LAST-MODIFIED:20230710T184008Z
UID:19326-1689852600-1689946200@slovaklegion.com
SUMMARY:Slovak Legion Lunch Buffet Thursdays and Fridays 11:30am to 1:30pm
DESCRIPTION:
URL:https://slovaklegion.com/event/slovak-legion-lunch-buffet-thursdays-and-fridays-1130am-to-130pm-2/
LOCATION:The Slovak Legion\, 801 Atlantic Ave\, Thunder Bay\, Ontario\, P7C 2T3\, Canada
CATEGORIES:Public
END:VEVENT
BEGIN:VEVENT
DTSTART;TZID=UTC:20230720T180000
DTEND;TZID=UTC:20230720T210000
DTSTAMP:20260421T063745
CREATED:20230710T183817Z
LAST-MODIFIED:20230710T183817Z
UID:19324-1689876000-1689886800@slovaklegion.com
SUMMARY:Slovak Legion Catch The Ace progressive draw with a minimum “Guaranteed” payout of $1\,000.00 if the you “Catch the Ace” every Thursday
DESCRIPTION:Slovak Legion Catch The Ace progressive draw with a minimum “Guaranteed” payout of $1\,000.00 if the you “Catch the Ace” every Thursday. \nTicket sales from 6:00 p.m. to 8:00 p.m. with the draw at 8:30 p.m. Licence M861313. We will also have a 50/50 draw at that time. Licence M861352. \nWhy not come out and enjoy supper in our Bar while trying to CATCH THE ACE!  A Fun Night Out!
URL:https://slovaklegion.com/event/slovak-legion-catch-the-ace-progressive-draw-with-a-minimum-guaranteed-payout-of-1000-00-if-the-you-catch-the-ace-every-thursday-6/
LOCATION:The Slovak Legion\, 801 Atlantic Ave\, Thunder Bay\, Ontario\, P7C 2T3\, Canada
CATEGORIES:Public
END:VEVENT
BEGIN:VEVENT
DTSTART;TZID=UTC:20230720T180000
DTEND;TZID=UTC:20230720T230000
DTSTAMP:20260421T063745
CREATED:20230710T184801Z
LAST-MODIFIED:20230710T191645Z
UID:19330-1689876000-1689894000@slovaklegion.com
SUMMARY:Slovak Legion Stand Up Comedy Night
DESCRIPTION:Slovak Legion Stand Up Comedy Night\n\nJoin us for all the Laughs\nThursday July 20th – 9pm – Bar and Kitchen are open before the show\n( Catch the Ace & 50/50 draw will run if the Ace of spades is still on the board )\nMessage us your tickets\nor visit the Bar\nLarge groups welcome\n 
URL:https://slovaklegion.com/event/slovak-legion-stand-up-comedy-night/
LOCATION:The Slovak Legion\, 801 Atlantic Ave\, Thunder Bay\, Ontario\, P7C 2T3\, Canada
CATEGORIES:Public
END:VEVENT
END:VCALENDAR