BEGIN:VCALENDAR
VERSION:2.0
PRODID:-//Royal Canadian Slovak Legion Branch #129 - ECPv5.15.0//NONSGML v1.0//EN
CALSCALE:GREGORIAN
METHOD:PUBLISH
X-WR-CALNAME:Royal Canadian Slovak Legion Branch #129
X-ORIGINAL-URL:https://slovaklegion.com
X-WR-CALDESC:Events for Royal Canadian Slovak Legion Branch #129
BEGIN:VTIMEZONE
TZID:UTC
BEGIN:STANDARD
TZOFFSETFROM:+0000
TZOFFSETTO:+0000
TZNAME:UTC
DTSTART:20230101T000000
END:STANDARD
END:VTIMEZONE
BEGIN:VEVENT
DTSTART;TZID=UTC:20230601T113000
DTEND;TZID=UTC:20230602T133000
DTSTAMP:20260421T083718
CREATED:20230413T051015Z
LAST-MODIFIED:20230524T223133Z
UID:19240-1685619000-1685712600@slovaklegion.com
SUMMARY:Slovak Lunch Buffets Thursdays and Fridays 11:30am to 1:30pm
DESCRIPTION:Looking for a hot\, delicious & ready to go lunch?? Join us every Thursday & Friday at the Slovak Legion for our Lunch Buffet.
URL:https://slovaklegion.com/event/slovak-lunch-buffets-thursdays-and-fridays-1130am-to-130pm-june/
LOCATION:The Slovak Legion\, 801 Atlantic Ave\, Thunder Bay\, Ontario\, P7C 2T3\, Canada
CATEGORIES:Public
END:VEVENT
BEGIN:VEVENT
DTSTART;TZID=UTC:20230601T180000
DTEND;TZID=UTC:20230601T210000
DTSTAMP:20260421T083718
CREATED:20230531T175119Z
LAST-MODIFIED:20230531T175251Z
UID:19277-1685642400-1685653200@slovaklegion.com
SUMMARY:SLOVAK LEGION CATCH THE ACE THURSDAYS “GUARANTEED” PAYOUT OF $1\,000.00 IF THE YOU “CATCH THE ACE” EVERY THURSDAY
DESCRIPTION:Slovak Legion Catch The Ace progressive draw with a minimum “Guaranteed” payout of $1\,000.00 if the you “Catch the Ace” every Thursday. \nTicket sales from 6:00 p.m. to 8:00 p.m. with the draw at 8:30 p.m. Licence M861313. We will also have a 50/50 draw at that time. Licence M861321. \nWhy not come out and enjoy supper in our Bar while trying to CATCH THE ACE!  A Fun Night Out!
URL:https://slovaklegion.com/event/slovak-legion-catch-the-ace-thursdays-guaranteed-payout-of-1000-00-if-the-you-catch-the-ace-every-thursday-2/
LOCATION:The Slovak Legion\, 801 Atlantic Ave\, Thunder Bay\, Ontario\, P7C 2T3\, Canada
CATEGORIES:Public
END:VEVENT
END:VCALENDAR